BEGIN:VCALENDAR
VERSION:2.0
PRODID:-//ST Corporate S.r.l. - ECPv6.15.20//NONSGML v1.0//EN
CALSCALE:GREGORIAN
METHOD:PUBLISH
X-WR-CALNAME:ST Corporate S.r.l.
X-ORIGINAL-URL:https://www.stcorporate.it
X-WR-CALDESC:Eventi per ST Corporate S.r.l.
REFRESH-INTERVAL;VALUE=DURATION:PT1H
X-Robots-Tag:noindex
X-PUBLISHED-TTL:PT1H
BEGIN:VTIMEZONE
TZID:Europe/Helsinki
BEGIN:DAYLIGHT
TZOFFSETFROM:+0200
TZOFFSETTO:+0300
TZNAME:EEST
DTSTART:20220327T010000
END:DAYLIGHT
BEGIN:STANDARD
TZOFFSETFROM:+0300
TZOFFSETTO:+0200
TZNAME:EET
DTSTART:20221030T010000
END:STANDARD
BEGIN:DAYLIGHT
TZOFFSETFROM:+0200
TZOFFSETTO:+0300
TZNAME:EEST
DTSTART:20230326T010000
END:DAYLIGHT
BEGIN:STANDARD
TZOFFSETFROM:+0300
TZOFFSETTO:+0200
TZNAME:EET
DTSTART:20231029T010000
END:STANDARD
BEGIN:DAYLIGHT
TZOFFSETFROM:+0200
TZOFFSETTO:+0300
TZNAME:EEST
DTSTART:20240331T010000
END:DAYLIGHT
BEGIN:STANDARD
TZOFFSETFROM:+0300
TZOFFSETTO:+0200
TZNAME:EET
DTSTART:20241027T010000
END:STANDARD
END:VTIMEZONE
BEGIN:VEVENT
DTSTART;VALUE=DATE:20231018
DTEND;VALUE=DATE:20231019
DTSTAMP:20260422T193723
CREATED:20230905T081531Z
LAST-MODIFIED:20230905T092029Z
UID:8259-1697587200-1697673599@www.stcorporate.it
SUMMARY:IVA - Mese di agosto - Regolarizzazione del versamento
DESCRIPTION:Regolarizzazione degli adempimenti relativi al versamento del mese di agosto\, la cui scadenza del termine era il 18.9.2023.
URL:https://www.stcorporate.it/scadenzario/iva-mese-di-agosto-regolarizzazione-del-versamento/
CATEGORIES:Scadenze,Titolari di partita IVA in regime mensile
END:VEVENT
END:VCALENDAR