BEGIN:VCALENDAR
VERSION:2.0
PRODID:-//ST Corporate S.r.l. - ECPv6.15.20//NONSGML v1.0//EN
CALSCALE:GREGORIAN
METHOD:PUBLISH
X-WR-CALNAME:ST Corporate S.r.l.
X-ORIGINAL-URL:https://www.stcorporate.it
X-WR-CALDESC:Eventi per ST Corporate S.r.l.
REFRESH-INTERVAL;VALUE=DURATION:PT1H
X-Robots-Tag:noindex
X-PUBLISHED-TTL:PT1H
BEGIN:VTIMEZONE
TZID:Europe/Helsinki
BEGIN:DAYLIGHT
TZOFFSETFROM:+0200
TZOFFSETTO:+0300
TZNAME:EEST
DTSTART:20220327T010000
END:DAYLIGHT
BEGIN:STANDARD
TZOFFSETFROM:+0300
TZOFFSETTO:+0200
TZNAME:EET
DTSTART:20221030T010000
END:STANDARD
BEGIN:DAYLIGHT
TZOFFSETFROM:+0200
TZOFFSETTO:+0300
TZNAME:EEST
DTSTART:20230326T010000
END:DAYLIGHT
BEGIN:STANDARD
TZOFFSETFROM:+0300
TZOFFSETTO:+0200
TZNAME:EET
DTSTART:20231029T010000
END:STANDARD
BEGIN:DAYLIGHT
TZOFFSETFROM:+0200
TZOFFSETTO:+0300
TZNAME:EEST
DTSTART:20240331T010000
END:DAYLIGHT
BEGIN:STANDARD
TZOFFSETFROM:+0300
TZOFFSETTO:+0200
TZNAME:EET
DTSTART:20241027T010000
END:STANDARD
END:VTIMEZONE
BEGIN:VTIMEZONE
TZID:UTC
BEGIN:STANDARD
TZOFFSETFROM:+0000
TZOFFSETTO:+0000
TZNAME:UTC
DTSTART:20220101T000000
END:STANDARD
END:VTIMEZONE
BEGIN:VEVENT
DTSTART;VALUE=DATE:20231002
DTEND;VALUE=DATE:20231003
DTSTAMP:20260422T193711
CREATED:20230905T081532Z
LAST-MODIFIED:20230905T094900Z
UID:8261-1696204800-1696291199@www.stcorporate.it
SUMMARY:Liquidazioni periodiche IVA - Dati del trimestre aprile-giugno - Trasmissione all'Agenzia delle Entrate
DESCRIPTION:Termine per la trasmissione telematica all’Agenzia delle Entrate\, direttamente o tramite un intermediario abilitato (comprese le società del gruppo)\, dei dati delle liquidazioni periodiche IVA relative al trimestre aprile-giugno. I contribuenti trimestrali presentano un unico modulo per ciascun trimestre; quelli mensili\, invece\, presentano più moduli\, uno per ogni liquidazione mensile effettuata nel trimestre.\nSono esonerati dalla comunicazione dei dati delle liquidazioni periodiche i soggetti che non sono tenuti: \nalla presentazione della dichiarazione IVA annuale;\nall’effettuazione delle liquidazioni periodiche. \nTuttavia\, la comunicazione è dovuta qualora nel corso dell’anno vengano meno le suddette condizioni di esonero.\nSono esonerati\, tra gli altri: \ni soggetti passivi IVA che per l’anno d’imposta abbiano registrato esclusivamente operazioni esenti ai fini IVA;\ni soggetti passivi IVA che si avvalgono del regime forfetario ex L. 190/2014 o del regime di vantaggio di cui all’art. 27 co. 1 e 2 del DL 98/2011;\ngli enti che operano in regime ex L. 398/91;\ni produttori agricoli in regime di esonero ex art. 34 co. 6 del DPR 633/72.
URL:https://www.stcorporate.it/scadenzario/liquidazioni-periodiche-iva-dati-del-trimestre-aprile-giugno-trasmissione-allagenzia-delle-entrate/
CATEGORIES:Scadenze,Titolari di partita IVA
END:VEVENT
BEGIN:VEVENT
DTSTART;VALUE=DATE:20231002
DTEND;VALUE=DATE:20231003
DTSTAMP:20260422T193711
CREATED:20230905T081920Z
LAST-MODIFIED:20230905T094345Z
UID:8325-1696204800-1696291199@www.stcorporate.it
SUMMARY:IVA - Versamenti sospesi - Settore dello sport - Versamento rateale
DESCRIPTION:Termine per il versamento rateale dell’IVA sospesa dall’1.1.2022 al 30.11.2022.Ai sensi dell’art. 13 del DL 176/2022\, i versamenti sospesi dovevano essere effettuati\, senza applicazione di sanzioni e interessi\, entro il 22.12.2022\, in un’unica soluzione.\nL’art. 1 co. 160 della L. 197/2022 prevede che i versamenti fiscali sospesi ai sensi dell’art. 1 co. 923 lett. a) e c) della L. 234/2021 si considerano tempestivi se effettuati: \nin un’unica soluzione entro il 29.12.2022;\novvero in 60 rate mensili di pari importo\, con scadenza delle prime tre rate entro il 29.12.2022 e delle successive rate mensili entro l’ultimo giorno di ciascun mese\, a decorrere dal mese di gennaio 2023.
URL:https://www.stcorporate.it/scadenzario/iva-versamenti-sospesi-settore-dello-sport-versamento-rateale-7/
CATEGORIES:Associazioni di promozione sportiva,Associazioni e società sportive dilettantistiche,Associazioni e società sportive professionistiche,Scadenze
END:VEVENT
BEGIN:VEVENT
DTSTART;VALUE=DATE:20231002
DTEND;VALUE=DATE:20231003
DTSTAMP:20260422T193711
CREATED:20230905T081921Z
LAST-MODIFIED:20230905T094327Z
UID:8327-1696204800-1696291199@www.stcorporate.it
SUMMARY:IVA - Versamenti sospesi - Settore dello sport - Versamento rateale
DESCRIPTION:Termine per il versamento rateale dell’IVA sospesa dall’1.1.2022 al 30.11.2022. Ai sensi dell’art. 13 del DL 176/2022\, i versamenti sospesi dovevano essere effettuati\, senza applicazione di sanzioni e interessi\, entro il 22.12.2022\, in un’unica soluzione.\nL’art. 1 co. 160 della L. 197/2022 prevede che i versamenti fiscali sospesi ai sensi dell’art. 1 co. 923 lett. a) e c) della L. 234/2021 si considerano tempestivi se effettuati: \nin un’unica soluzione entro il 29.12.2022;\novvero in 60 rate mensili di pari importo\, con scadenza delle prime tre rate entro il 29.12.2022 e delle successive rate mensili entro l’ultimo giorno di ciascun mese\, a decorrere dal mese di gennaio 2023.
URL:https://www.stcorporate.it/scadenzario/iva-versamenti-sospesi-settore-dello-sport-versamento-rateale-9/
CATEGORIES:Associazioni e società sportive professionistiche,Scadenze
END:VEVENT
BEGIN:VEVENT
DTSTART;VALUE=DATE:20231002
DTEND;VALUE=DATE:20231003
DTSTAMP:20260422T193711
CREATED:20230905T081935Z
LAST-MODIFIED:20230905T094316Z
UID:8331-1696204800-1696291199@www.stcorporate.it
SUMMARY:Lotteria degli scontrini istantanea - Adattamento dei registratori telematici
DESCRIPTION:Termine\, per i soggetti che esercitano attività di commercio al minuto\, per configurare i registratori telematici\, i server RT e la procedura web ai fini della c.d. “lotteria istantanea” degli scontrini.
URL:https://www.stcorporate.it/scadenzario/lotteria-degli-scontrini-istantanea-adattamento-dei-registratori-telematici/
CATEGORIES:Commercianti al minuto,Scadenze
END:VEVENT
BEGIN:VEVENT
DTSTART;VALUE=DATE:20231002
DTEND;VALUE=DATE:20231003
DTSTAMP:20260422T193711
CREATED:20230905T082251Z
LAST-MODIFIED:20230905T094028Z
UID:8390-1696204800-1696291199@www.stcorporate.it
SUMMARY:Cessioni di beni effettuate dal cessionario nei confronti di un soggetto terzo per il tramite del proprio cedente\, relative al mese precedente - Emissione delle fatture
DESCRIPTION:Termine per emettere le fatture\, eventualmente in forma semplificata\, relative alle cessioni di beni effettuate dal cessionario nei confronti di un soggetto terzo per il tramite del proprio cedente\, in relazione ai beni consegnati o spediti nel mese precedente.
URL:https://www.stcorporate.it/scadenzario/cessioni-di-beni-effettuate-dal-cessionario-nei-confronti-di-un-soggetto-terzo-per-il-tramite-del-proprio-cedente-relative-al-mese-precedente-emissione-delle-fatture-3/
CATEGORIES:Scadenze,Titolari di partita IVA
END:VEVENT
BEGIN:VEVENT
DTSTART;VALUE=DATE:20231002
DTEND;VALUE=DATE:20231003
DTSTAMP:20260422T193711
CREATED:20230905T100056Z
LAST-MODIFIED:20230905T100056Z
UID:8536-1696204800-1696291199@www.stcorporate.it
SUMMARY:Modello INTRA 12 - Acquisti intracomunitari di beni e servizi da soggetti non residenti - Versamento e dichiarazione dell'imposta
DESCRIPTION:Termine\, per i soggetti non passivi d’imposta che hanno effettuato acquisti intracomunitari\, per: \nversare l’imposta dovuta sugli acquisti intracomunitari di beni e sugli acquisti di beni e servizi da soggetti non residenti\, registrati con riferimento al secondo mese precedente. L’imposta è versata cumulativamente per tutti gli acquisti registrati nel mese;\npresentare la relativa dichiarazione mensile\, con indicazione dell’imposta dovuta e versata. Dalla dichiarazione devono risultare l’ammontare degli acquisti\, quello dell’imposta dovuta e gli estremi del relativo attestato di versamento.
URL:https://www.stcorporate.it/scadenzario/modello-intra-12-acquisti-intracomunitari-di-beni-e-servizi-da-soggetti-non-residenti-versamento-e-dichiarazione-dellimposta-4/
CATEGORIES:Enti non commerciali,Imprenditori agricoli,Scadenze
END:VEVENT
BEGIN:VEVENT
DTSTART;VALUE=DATE:20231002
DTEND;VALUE=DATE:20231003
DTSTAMP:20260422T193711
CREATED:20230905T100319Z
LAST-MODIFIED:20230905T100319Z
UID:8542-1696204800-1696291199@www.stcorporate.it
SUMMARY:Operazioni effettuate nel mese precedente da sedi secondarie - Fatturazione\, registrazione e annotazione
DESCRIPTION:Obblighi di fatturazione\, registrazione e annotazione dei corrispettivi e di registrazione degli acquisti\, relativamente alle operazioni effettuate nel mese precedente da sedi secondarie (o altre dipendenze) che non vi provvedono direttamente.
URL:https://www.stcorporate.it/scadenzario/operazioni-effettuate-nel-mese-precedente-da-sedi-secondarie-fatturazione-registrazione-e-annotazione-3/
CATEGORIES:Scadenze,Titolari di partita IVA
END:VEVENT
END:VCALENDAR