BEGIN:VCALENDAR
VERSION:2.0
PRODID:-//ST Corporate S.r.l. - ECPv6.15.20//NONSGML v1.0//EN
CALSCALE:GREGORIAN
METHOD:PUBLISH
X-WR-CALNAME:ST Corporate S.r.l.
X-ORIGINAL-URL:https://www.stcorporate.it
X-WR-CALDESC:Eventi per ST Corporate S.r.l.
REFRESH-INTERVAL;VALUE=DURATION:PT1H
X-Robots-Tag:noindex
X-PUBLISHED-TTL:PT1H
BEGIN:VTIMEZONE
TZID:UTC
BEGIN:STANDARD
TZOFFSETFROM:+0000
TZOFFSETTO:+0000
TZNAME:UTC
DTSTART:20220101T000000
END:STANDARD
END:VTIMEZONE
BEGIN:VEVENT
DTSTART;VALUE=DATE:20230930
DTEND;VALUE=DATE:20231001
DTSTAMP:20260422T193739
CREATED:20230713T075131Z
LAST-MODIFIED:20230713T081245Z
UID:7950-1696032000-1696118399@www.stcorporate.it
SUMMARY:Soggetti che hanno aderito al regime "IOSS" - Dichiarazione vendite a distanza di beni importati e versamento della relativa imposta
DESCRIPTION:Presentazione all’Agenzia delle Entrate\, in via telematica\, della dichiarazione relativa al mese precedente riguardante le vendite a distanza di beni importati: \nnon soggetti ad accisa;\nspediti in spedizioni di valore intrinseco non superiore a 150\,00 euro;\ndestinati ad un consumatore in uno Stato membro dell’Unione europea. \nL’Import One Stop Shop (IOSS) è un regime speciale che\, su base facoltativa\, consente di dichiarare e versare l’IVA in modo semplificato in relazione alle vendite a distanza di beni importati da territori terzi o Paesi terzi in spedizioni di valore intrinseco non superiore a 150\,00 euro.\nEntro il medesimo termine\, i soggetti che si avvalgono dell’IOSS sono tenuti a versare l’imposta dovuta in base alla dichiarazione.
URL:https://www.stcorporate.it/scadenzario/soggetti-che-hanno-aderito-al-regime-ioss-dichiarazione-vendite-a-distanza-di-beni-importati-e-versamento-della-relativa-imposta-3/
CATEGORIES:Scadenze,Titolari di partita IVA
END:VEVENT
END:VCALENDAR