BEGIN:VCALENDAR
VERSION:2.0
PRODID:-//ST Corporate S.r.l. - ECPv6.15.20//NONSGML v1.0//EN
CALSCALE:GREGORIAN
METHOD:PUBLISH
X-WR-CALNAME:ST Corporate S.r.l.
X-ORIGINAL-URL:https://www.stcorporate.it
X-WR-CALDESC:Eventi per ST Corporate S.r.l.
REFRESH-INTERVAL;VALUE=DURATION:PT1H
X-Robots-Tag:noindex
X-PUBLISHED-TTL:PT1H
BEGIN:VTIMEZONE
TZID:UTC
BEGIN:STANDARD
TZOFFSETFROM:+0000
TZOFFSETTO:+0000
TZNAME:UTC
DTSTART:20220101T000000
END:STANDARD
END:VTIMEZONE
BEGIN:VEVENT
DTSTART;VALUE=DATE:20230831
DTEND;VALUE=DATE:20230901
DTSTAMP:20260422T211441
CREATED:20230713T055241Z
LAST-MODIFIED:20230713T060501Z
UID:7594-1693440000-1693526399@www.stcorporate.it
SUMMARY:IVA - Versamenti sospesi - Settore dello sport - Versamento rateale
DESCRIPTION:Termine per il versamento rateale dell’IVA sospesa dall’1.1.2022 al 30.11.2022. Ai sensi dell’art. 13 del DL 176/2022\, i versamenti sospesi dovevano essere effettuati\, senza applicazione di sanzioni e interessi\, entro il 22.12.2022\, in un’unica soluzione.\nL’art. 1 co. 160 della L. 197/2022 prevede che i versamenti fiscali sospesi ai sensi dell’art. 1 co. 923 lett. a) e c) della L. 234/2021 si considerano tempestivi se effettuati: \nin un’unica soluzione entro il 29.12.2022;\novvero in 60 rate mensili di pari importo\, con scadenza delle prime tre rate entro il 29.12.2022 e delle successive rate mensili entro l’ultimo giorno di ciascun mese\, a decorrere dal mese di gennaio 2023.
URL:https://www.stcorporate.it/scadenzario/iva-versamenti-sospesi-settore-dello-sport-versamento-rateale-4/
CATEGORIES:Associazioni di promozione sportiva,Associazioni e società sportive dilettantistiche,Associazioni e società sportive professionistiche,Scadenze
END:VEVENT
BEGIN:VEVENT
DTSTART;VALUE=DATE:20230831
DTEND;VALUE=DATE:20230901
DTSTAMP:20260422T211441
CREATED:20230713T055241Z
LAST-MODIFIED:20230713T060535Z
UID:7595-1693440000-1693526399@www.stcorporate.it
SUMMARY:IVA - Versamenti sospesi - Settore dello sport - Versamento rateale
DESCRIPTION:Termine per il versamento rateale dell’IVA sospesa dall’1.1.2022 al 30.11.2022.Ai sensi dell’art. 13 del DL 176/2022\, i versamenti sospesi dovevano essere effettuati\, senza applicazione di sanzioni e interessi\, entro il 22.12.2022\, in un’unica soluzione.\nL’art. 1 co. 160 della L. 197/2022 prevede che i versamenti fiscali sospesi ai sensi dell’art. 1 co. 923 lett. a) e c) della L. 234/2021 si considerano tempestivi se effettuati: \nin un’unica soluzione entro il 29.12.2022;\novvero in 60 rate mensili di pari importo\, con scadenza delle prime tre rate entro il 29.12.2022 e delle successive rate mensili entro l’ultimo giorno di ciascun mese\, a decorrere dal mese di gennaio 2023.
URL:https://www.stcorporate.it/scadenzario/iva-versamenti-sospesi-settore-dello-sport-versamento-rateale-5/
CATEGORIES:Associazioni di promozione sportiva,Associazioni e società sportive dilettantistiche,Associazioni e società sportive professionistiche,Scadenze
END:VEVENT
BEGIN:VEVENT
DTSTART;VALUE=DATE:20230831
DTEND;VALUE=DATE:20230901
DTSTAMP:20260422T211441
CREATED:20230713T055241Z
LAST-MODIFIED:20230713T060546Z
UID:7596-1693440000-1693526399@www.stcorporate.it
SUMMARY:IVA - Versamenti sospesi - Settore dello sport - Versamento rateale
DESCRIPTION:Termine per il versamento rateale dell’IVA sospesa dall’1.1.2022 al 30.11.2022. Ai sensi dell’art. 13 del DL 176/2022\, i versamenti sospesi dovevano essere effettuati\, senza applicazione di sanzioni e interessi\, entro il 22.12.2022\, in un’unica soluzione.\nL’art. 1 co. 160 della L. 197/2022 prevede che i versamenti fiscali sospesi ai sensi dell’art. 1 co. 923 lett. a) e c) della L. 234/2021 si considerano tempestivi se effettuati: \nin un’unica soluzione entro il 29.12.2022;\novvero in 60 rate mensili di pari importo\, con scadenza delle prime tre rate entro il 29.12.2022 e delle successive rate mensili entro l’ultimo giorno di ciascun mese\, a decorrere dal mese di gennaio 2023.
URL:https://www.stcorporate.it/scadenzario/iva-versamenti-sospesi-settore-dello-sport-versamento-rateale-6/
CATEGORIES:Associazioni di promozione sportiva,Associazioni e società sportive dilettantistiche,Associazioni e società sportive professionistiche,Scadenze
END:VEVENT
BEGIN:VEVENT
DTSTART;VALUE=DATE:20230831
DTEND;VALUE=DATE:20230901
DTSTAMP:20260422T211441
CREATED:20230713T055326Z
LAST-MODIFIED:20230713T060217Z
UID:7623-1693440000-1693526399@www.stcorporate.it
SUMMARY:Soggetti che hanno aderito al regime "IOSS" - Dichiarazione vendite a distanza di beni importati e versamento della relativa imposta
DESCRIPTION:Presentazione all’Agenzia delle Entrate\, in via telematica\, della dichiarazione relativa al mese precedente riguardante le vendite a distanza di beni importati: \nnon soggetti ad accisa;\nspediti in spedizioni di valore intrinseco non superiore a 150\,00 euro;\ndestinati ad un consumatore in uno Stato membro dell’Unione europea. \nL’Import One Stop Shop (IOSS) è un regime speciale che\, su base facoltativa\, consente di dichiarare e versare l’IVA in modo semplificato in relazione alle vendite a distanza di beni importati da territori terzi o Paesi terzi in spedizioni di valore intrinseco non superiore a 150\,00 euro.\nEntro il medesimo termine\, i soggetti che si avvalgono dell’IOSS sono tenuti a versare l’imposta dovuta in base alla dichiarazione.
URL:https://www.stcorporate.it/scadenzario/soggetti-che-hanno-aderito-al-regime-ioss-dichiarazione-vendite-a-distanza-di-beni-importati-e-versamento-della-relativa-imposta-2/
CATEGORIES:Scadenze,Titolari di partita IVA
END:VEVENT
BEGIN:VEVENT
DTSTART;VALUE=DATE:20230831
DTEND;VALUE=DATE:20230901
DTSTAMP:20260422T211441
CREATED:20230713T055358Z
LAST-MODIFIED:20230713T060156Z
UID:7638-1693440000-1693526399@www.stcorporate.it
SUMMARY:Cessioni di beni effettuate dal cessionario nei confronti di un soggetto terzo per il tramite del proprio cedente\, relative al mese precedente - Emissione delle fatture
DESCRIPTION:Termine per emettere le fatture\, eventualmente in forma semplificata\, relative alle cessioni di beni effettuate dal cessionario nei confronti di un soggetto terzo per il tramite del proprio cedente\, in relazione ai beni consegnati o spediti nel mese precedente.
URL:https://www.stcorporate.it/scadenzario/cessioni-di-beni-effettuate-dal-cessionario-nei-confronti-di-un-soggetto-terzo-per-il-tramite-del-proprio-cedente-relative-al-mese-precedente-emissione-delle-fatture-2/
CATEGORIES:Scadenze,Titolari di partita IVA
END:VEVENT
BEGIN:VEVENT
DTSTART;VALUE=DATE:20230831
DTEND;VALUE=DATE:20230901
DTSTAMP:20260422T211441
CREATED:20230713T071205Z
LAST-MODIFIED:20230713T071205Z
UID:7776-1693440000-1693526399@www.stcorporate.it
SUMMARY:Modello INTRA 12 - Acquisti intracomunitari di beni e servizi da soggetti non residenti - Versamento e dichiarazione dell'imposta
DESCRIPTION:Termine\, per i soggetti non passivi d’imposta che hanno effettuato acquisti intracomunitari\, per: \nversare l’imposta dovuta sugli acquisti intracomunitari di beni e sugli acquisti di beni e servizi da soggetti non residenti\, registrati con riferimento al secondo mese precedente. L’imposta è versata cumulativamente per tutti gli acquisti registrati nel mese;\npresentare la relativa dichiarazione mensile\, con indicazione dell’imposta dovuta e versata. Dalla dichiarazione devono risultare l’ammontare degli acquisti\, quello dell’imposta dovuta e gli estremi del relativo attestato di versamento.
URL:https://www.stcorporate.it/scadenzario/modello-intra-12-acquisti-intracomunitari-di-beni-e-servizi-da-soggetti-non-residenti-versamento-e-dichiarazione-dellimposta-3/
CATEGORIES:Enti non commerciali,Imprenditori agricoli,Scadenze
END:VEVENT
BEGIN:VEVENT
DTSTART;VALUE=DATE:20230831
DTEND;VALUE=DATE:20230901
DTSTAMP:20260422T211441
CREATED:20230713T071253Z
LAST-MODIFIED:20230713T071253Z
UID:7780-1693440000-1693526399@www.stcorporate.it
SUMMARY:Operazioni effettuate nel mese precedente da sedi secondarie - Fatturazione\, registrazione e annotazione
DESCRIPTION:Obblighi di fatturazione\, registrazione e annotazione dei corrispettivi e di registrazione degli acquisti\, relativamente alle operazioni effettuate nel mese precedente da sedi secondarie (o altre dipendenze) che non vi provvedono direttamente.
URL:https://www.stcorporate.it/scadenzario/operazioni-effettuate-nel-mese-precedente-da-sedi-secondarie-fatturazione-registrazione-e-annotazione-2/
CATEGORIES:Scadenze,Titolari di partita IVA
END:VEVENT
END:VCALENDAR