BEGIN:VCALENDAR
VERSION:2.0
PRODID:-//ST Corporate S.r.l. - ECPv6.15.20//NONSGML v1.0//EN
CALSCALE:GREGORIAN
METHOD:PUBLISH
X-WR-CALNAME:ST Corporate S.r.l.
X-ORIGINAL-URL:https://www.stcorporate.it
X-WR-CALDESC:Eventi per ST Corporate S.r.l.
REFRESH-INTERVAL;VALUE=DURATION:PT1H
X-Robots-Tag:noindex
X-PUBLISHED-TTL:PT1H
BEGIN:VTIMEZONE
TZID:Europe/Helsinki
BEGIN:DAYLIGHT
TZOFFSETFROM:+0200
TZOFFSETTO:+0300
TZNAME:EEST
DTSTART:20230326T010000
END:DAYLIGHT
BEGIN:STANDARD
TZOFFSETFROM:+0300
TZOFFSETTO:+0200
TZNAME:EET
DTSTART:20231029T010000
END:STANDARD
BEGIN:DAYLIGHT
TZOFFSETFROM:+0200
TZOFFSETTO:+0300
TZNAME:EEST
DTSTART:20240331T010000
END:DAYLIGHT
BEGIN:STANDARD
TZOFFSETFROM:+0300
TZOFFSETTO:+0200
TZNAME:EET
DTSTART:20241027T010000
END:STANDARD
BEGIN:DAYLIGHT
TZOFFSETFROM:+0200
TZOFFSETTO:+0300
TZNAME:EEST
DTSTART:20250330T010000
END:DAYLIGHT
BEGIN:STANDARD
TZOFFSETFROM:+0300
TZOFFSETTO:+0200
TZNAME:EET
DTSTART:20251026T010000
END:STANDARD
END:VTIMEZONE
BEGIN:VEVENT
DTSTART;VALUE=DATE:20240131
DTEND;VALUE=DATE:20240201
DTSTAMP:20260425T050029
CREATED:20240109T112510Z
LAST-MODIFIED:20240109T120203Z
UID:9490-1706659200-1706745599@www.stcorporate.it
SUMMARY:Imprese di assicurazione - Premi ed accessori incassati ed eventuali conguagli - Versamento dell'imposta sulle assicurazioni
DESCRIPTION:Versamento dell’imposta dovuta sui premi ed accessori incassati nel mese di dicembre\, nonché di eventuali conguagli dell’imposta dovuta sui premi ed accessori incassati nel mese di novembre.
URL:https://www.stcorporate.it/scadenzario/imprese-di-assicurazione-premi-ed-accessori-incassati-ed-eventuali-conguagli-versamento-dellimposta-sulle-assicurazioni/
CATEGORIES:Imprese di assicurazione,Scadenze
END:VEVENT
END:VCALENDAR