BEGIN:VCALENDAR
VERSION:2.0
PRODID:-//ST Corporate S.r.l. - ECPv6.15.20//NONSGML v1.0//EN
CALSCALE:GREGORIAN
METHOD:PUBLISH
X-WR-CALNAME:ST Corporate S.r.l.
X-ORIGINAL-URL:https://www.stcorporate.it
X-WR-CALDESC:Eventi per ST Corporate S.r.l.
REFRESH-INTERVAL;VALUE=DURATION:PT1H
X-Robots-Tag:noindex
X-PUBLISHED-TTL:PT1H
BEGIN:VTIMEZONE
TZID:Europe/Helsinki
BEGIN:DAYLIGHT
TZOFFSETFROM:+0200
TZOFFSETTO:+0300
TZNAME:EEST
DTSTART:20230326T010000
END:DAYLIGHT
BEGIN:STANDARD
TZOFFSETFROM:+0300
TZOFFSETTO:+0200
TZNAME:EET
DTSTART:20231029T010000
END:STANDARD
BEGIN:DAYLIGHT
TZOFFSETFROM:+0200
TZOFFSETTO:+0300
TZNAME:EEST
DTSTART:20240331T010000
END:DAYLIGHT
BEGIN:STANDARD
TZOFFSETFROM:+0300
TZOFFSETTO:+0200
TZNAME:EET
DTSTART:20241027T010000
END:STANDARD
BEGIN:DAYLIGHT
TZOFFSETFROM:+0200
TZOFFSETTO:+0300
TZNAME:EEST
DTSTART:20250330T010000
END:DAYLIGHT
BEGIN:STANDARD
TZOFFSETFROM:+0300
TZOFFSETTO:+0200
TZNAME:EET
DTSTART:20251026T010000
END:STANDARD
END:VTIMEZONE
BEGIN:VEVENT
DTSTART;TZID=Europe/Helsinki:20240229T000000
DTEND;TZID=Europe/Helsinki:20240229T000000
DTSTAMP:20260425T063157
CREATED:20240109T135122Z
LAST-MODIFIED:20240109T140004Z
UID:9863-1709164800-1709164800@www.stcorporate.it
SUMMARY:Imprese di assicurazione - Premi ed accessori incassati ed eventuali conguagli - Versamento dell'imposta sulle assicurazioni
DESCRIPTION:Versamento dell’imposta dovuta sui premi ed accessori incassati nel mese di gennaio\, nonché di eventuali conguagli dell’imposta dovuta sui premi ed accessori incassati nel mese di dicembre.
URL:https://www.stcorporate.it/scadenzario/imprese-di-assicurazione-premi-ed-accessori-incassati-ed-eventuali-conguagli-versamento-dellimposta-sulle-assicurazioni-2/
CATEGORIES:Imprese di assicurazione,Scadenze
END:VEVENT
END:VCALENDAR