BEGIN:VCALENDAR
VERSION:2.0
PRODID:-//ST Corporate S.r.l. - ECPv6.15.20//NONSGML v1.0//EN
CALSCALE:GREGORIAN
METHOD:PUBLISH
X-WR-CALNAME:ST Corporate S.r.l.
X-ORIGINAL-URL:https://www.stcorporate.it
X-WR-CALDESC:Eventi per ST Corporate S.r.l.
REFRESH-INTERVAL;VALUE=DURATION:PT1H
X-Robots-Tag:noindex
X-PUBLISHED-TTL:PT1H
BEGIN:VTIMEZONE
TZID:UTC
BEGIN:STANDARD
TZOFFSETFROM:+0000
TZOFFSETTO:+0000
TZNAME:UTC
DTSTART:20220101T000000
END:STANDARD
END:VTIMEZONE
BEGIN:VEVENT
DTSTART;VALUE=DATE:20230731
DTEND;VALUE=DATE:20230801
DTSTAMP:20260422T024814
CREATED:20230608T082755Z
LAST-MODIFIED:20230609T101742Z
UID:7207-1690761600-1690847999@www.stcorporate.it
SUMMARY:Canone RAI - Pagamento della seconda rata semestrale o terza trimestrale
DESCRIPTION:Termine per il pagamento della seconda rata semestrale\, ovvero della terza rata trimestrale\, del canone RAI relativo al 2023\, mediante il modello F24\, nei casi in cui: \nnessun componente della famiglia anagrafica tenuta al pagamento del canone sia titolare di contratto di fornitura di energia elettrica delle tipologie con addebito in fattura;\noppure si tratti di utenti per i quali l’erogazione dell’energia elettrica avviene nell’ambito di reti non interconnesse con la rete di trasmissione nazionale. \nIl versamento può essere eseguito: \nin unica soluzione;\nin due rate semestrali\, scadenti il 31.1.2023 e il 31.7.2023;\nin quattro rate trimestrali\, scadenti il 31.1.2023\, il 30.4.2023\, il 31.7.2023 e il 31.10.2023.
URL:https://www.stcorporate.it/scadenzario/canone-rai-pagamento-della-seconda-rata-semestrale-o-terza-trimestrale/
CATEGORIES:Persone fisiche,Scadenze
END:VEVENT
BEGIN:VEVENT
DTSTART;VALUE=DATE:20230731
DTEND;VALUE=DATE:20230801
DTSTAMP:20260422T024814
CREATED:20230608T082950Z
LAST-MODIFIED:20230609T101437Z
UID:7233-1690761600-1690847999@www.stcorporate.it
SUMMARY:Pensionati a basso reddito con almeno 75 anni di età - Dichiarazione per fruire dell'esenzione dal canone RAI - Presentazione all'Agenzia delle Entrate
DESCRIPTION:Presentazione all’Agenzia delle Entrate\, da parte dei pensionati a basso reddito con almeno 75 anni di età che per la prima volta fruiscono del beneficio\, dell’apposita dichiarazione per fruire dell’esenzione dal canone RAI\, a decorrere dal secondo semestre dell’anno in corso.Il canone RAI non è dovuto per i soggetti: \ndi età pari o superiore a 75 anni;\ncon un reddito proprio e del coniuge non superiore complessivamente a 8.000 euro annui;\nnon convivente con altri soggetti titolari di un reddito proprio\, fatta eccezione per collaboratori domestici\, colf e badanti.
URL:https://www.stcorporate.it/scadenzario/pensionati-a-basso-reddito-con-almeno-75-anni-di-eta-dichiarazione-per-fruire-dellesenzione-dal-canone-rai-presentazione-allagenzia-delle-entrate/
CATEGORIES:Pensionati,Scadenze
END:VEVENT
END:VCALENDAR