BEGIN:VCALENDAR
VERSION:2.0
PRODID:-//ST Corporate S.r.l. - ECPv6.15.20//NONSGML v1.0//EN
CALSCALE:GREGORIAN
METHOD:PUBLISH
X-ORIGINAL-URL:https://www.stcorporate.it
X-WR-CALDESC:Eventi per ST Corporate S.r.l.
REFRESH-INTERVAL;VALUE=DURATION:PT1H
X-Robots-Tag:noindex
X-PUBLISHED-TTL:PT1H
BEGIN:VTIMEZONE
TZID:UTC
BEGIN:STANDARD
TZOFFSETFROM:+0000
TZOFFSETTO:+0000
TZNAME:UTC
DTSTART:20220101T000000
END:STANDARD
END:VTIMEZONE
BEGIN:VEVENT
DTSTART;VALUE=DATE:20230717
DTEND;VALUE=DATE:20230718
DTSTAMP:20260422T213105
CREATED:20230608T083115Z
LAST-MODIFIED:20230609T102350Z
UID:7294-1689552000-1689638399@www.stcorporate.it
SUMMARY:Soggetti in regime di "risparmio gestito" - Capital gain - Versamento dell'imposta sostitutiva
DESCRIPTION:Versamento dell’imposta sostitutiva relativa ai contribuenti in regime di “risparmio gestito”\, in caso di revoca del mandato di gestione nel secondo mese precedente.Il regime del “risparmio gestito” è un regime opzionale di tassazione delle plusvalenze derivanti da cessioni di partecipazioni che può essere utilizzato\, su opzione\, da chi conferisce ad un intermediario abilitato l’incarico di gestione individuale di masse patrimoniali.\nLe caratteristiche di questo regime sono: \nl’esclusione del risultato di gestione dall’assoggettamento alle imposte sui redditi;\nla tassazione\, sulla base del principio della maturazione\, dei redditi di capitale e dei redditi diversi di natura finanziaria imputati al patrimonio gestito;\nl’esclusione dal risultato di gestione degli altri redditi che devono concorrere a formare il reddito complessivo del contribuente\, dei redditi esenti e di quelli soggetti a ritenuta a titolo d’imposta o ad imposta sostitutiva;\nla determinazione algebrica del risultato netto assoggettabile all’imposta sostitutiva da parte dell’intermediario\, con conseguente compensazione tra componenti positivi (redditi di capitale\, plusvalenze e altri redditi diversi) e negativi (minusvalenze e spese);\nil riporto a nuovo dei risultati negativi di gestione;\nl’esclusione dal monitoraggio fiscale. \nIl contribuente esercita l’opzione di “risparmio gestito” con comunicazione all’intermediario sottoscritta: \ncontestualmente al conferimento dell’incarico di gestione individuale di patrimoni;\novvero anteriormente all’inizio del periodo d’imposta\, per i rapporti in essere. \nL’imposta sostitutiva è applicata dall’intermediario sul risultato netto maturato della gestione individuale delle masse patrimoniali\, comprensivo sia delle plusvalenze o guadagni (redditi diversi) che dei redditi di capitale\, indipendentemente dalla loro percezione\, ed è pari al 26%.\nIl versamento dell’imposta sostitutiva è eseguito dall’intermediario gestore: \nentro il 16 febbraio dell’anno successivo;\nentro il sedicesimo giorno del secondo mese successivo a quello di revoca del mandato di gestione. \nL’importo dell’imposta sostitutiva da versare è prelevato dal patrimonio della gestione; a tali fini\, il gestore può effettuare i disinvestimenti necessari\, salvo che il contribuente fornisca direttamente le somme necessarie.
URL:https://www.stcorporate.it/scadenzario/soggetti-in-regime-di-risparmio-gestito-capital-gain-versamento-dellimposta-sostitutiva/
CATEGORIES:Scadenze,Società di intermediazione mobiliare
END:VEVENT
BEGIN:VEVENT
DTSTART;VALUE=DATE:20230731
DTEND;VALUE=DATE:20230801
DTSTAMP:20260422T213105
CREATED:20230608T083051Z
LAST-MODIFIED:20230609T101237Z
UID:7273-1690761600-1690847999@www.stcorporate.it
SUMMARY:Operazioni extra-conto - Comunicazione dei dati all'Archivio dei rapporti dell’Anagrafe tributaria
DESCRIPTION:Termine per effettuare la trasmissione in via telematica all’Anagrafe tributaria\, tramite il Sistema di Interscambio Dati (SID)\, dei dati\, relativi al mese di giugno 2023\, riguardanti: \nle operazioni di natura finanziaria compiute al di fuori di un rapporto continuativo;\ni soggetti che intrattengono con gli operatori finanziari qualsiasi altro rapporto in nome proprio o per conto o a nome di terzi. \nIl provv. Agenzia delle Entrate 23.5.2022 n. 176227\, modificando il provv. 29.2.2008\, n. 31934\, ha stabilito che le comunicazioni devono essere effettuate entro l’ultimo giorno lavorativo del mese successivo\, considerando il sabato come giorno non lavorativo. Non sono comunque considerate tardive le comunicazioni pervenute entro l’ultimo giorno del mese.
URL:https://www.stcorporate.it/scadenzario/operazioni-extra-conto-comunicazione-dei-dati-allarchivio-dei-rapporti-dellanagrafe-tributaria-3/
CATEGORIES:Scadenze,Società di intermediazione mobiliare
END:VEVENT
BEGIN:VEVENT
DTSTART;VALUE=DATE:20230731
DTEND;VALUE=DATE:20230801
DTSTAMP:20260422T213105
CREATED:20230608T083056Z
LAST-MODIFIED:20230609T101226Z
UID:7279-1690761600-1690847999@www.stcorporate.it
SUMMARY:Rapporti di tipo continuativo - Comunicazione dei dati all'Archivio dei rapporti dell’Anagrafe tributaria
DESCRIPTION:Termine per effettuare la trasmissione in via telematica\, tramite il Sistema di Interscambio Dati (SID)\, dei dati relativi all’instaurazione di nuovi rapporti di tipo continuativo\, nonchè relative variazioni e cessazioni\, intervenute nel mese di giugno 2023. Il provv. Agenzia delle Entrate 23.5.2022 n. 176227\, modificando il provv. 19.1.2007 n. 9647\, ha stabilito che le comunicazioni devono essere effettuate entro l’ultimo giorno lavorativo del mese successivo\, considerando il sabato come giorno non lavorativo. Non sono comunque considerate tardive le comunicazioni pervenute entro l’ultimo giorno del mese.
URL:https://www.stcorporate.it/scadenzario/rapporti-di-tipo-continuativo-comunicazione-dei-dati-allarchivio-dei-rapporti-dellanagrafe-tributaria/
CATEGORIES:Scadenze,Società di intermediazione mobiliare
END:VEVENT
BEGIN:VEVENT
DTSTART;VALUE=DATE:20230731
DTEND;VALUE=DATE:20230801
DTSTAMP:20260422T213105
CREATED:20230608T083135Z
LAST-MODIFIED:20230609T101157Z
UID:7307-1690761600-1690847999@www.stcorporate.it
SUMMARY:Risposte negative cumulative sulle richieste di indagini bancarie - Comunicazione all'Agenzia delle Entrate
DESCRIPTION:Termine per inviare all’Agenzia delle Entrate e/o all’Agenzia delle Accise\, Dogane e Monopoli\, in via telematica\, le risposte negative cumulative riguardanti richieste: \ndi informazioni sui rapporti intrattenuti e sulle operazioni svolte con i contribuenti;\nconsegnate nel mese precedente.
URL:https://www.stcorporate.it/scadenzario/risposte-negative-cumulative-sulle-richieste-di-indagini-bancarie-comunicazione-allagenzia-delle-entrate-2/
CATEGORIES:Scadenze,Società di intermediazione mobiliare
END:VEVENT
END:VCALENDAR