BEGIN:VCALENDAR
VERSION:2.0
PRODID:-//ST Corporate S.r.l. - ECPv6.15.20//NONSGML v1.0//EN
CALSCALE:GREGORIAN
METHOD:PUBLISH
X-WR-CALNAME:ST Corporate S.r.l.
X-ORIGINAL-URL:https://www.stcorporate.it
X-WR-CALDESC:Eventi per ST Corporate S.r.l.
REFRESH-INTERVAL;VALUE=DURATION:PT1H
X-Robots-Tag:noindex
X-PUBLISHED-TTL:PT1H
BEGIN:VTIMEZONE
TZID:UTC
BEGIN:STANDARD
TZOFFSETFROM:+0000
TZOFFSETTO:+0000
TZNAME:UTC
DTSTART:20220101T000000
END:STANDARD
END:VTIMEZONE
BEGIN:VEVENT
DTSTART;VALUE=DATE:20231027
DTEND;VALUE=DATE:20231028
DTSTAMP:20260425T191826
CREATED:20230905T102637Z
LAST-MODIFIED:20230905T102637Z
UID:8574-1698364800-1698451199@www.stcorporate.it
SUMMARY:Utili destinati ai Fondi mutualistici - Versamento quota del 3%
DESCRIPTION:Termine per il versamento ai Fondi mutualistici\, da parte di società cooperative “solari” non aderenti ad Associazioni nazionali riconosciute\, della quota del 3% degli utili di esercizio derivanti dal bilancio relativo all’anno precedente.\nSe l’esercizio sociale non coincide con l’anno solare\, il termine di versamento è stabilito entro 300 giorni dalla data di chiusura dell’esercizio.\nIl termine scade il 26 ottobre negli anni bisestili.
URL:https://www.stcorporate.it/scadenzario/utili-destinati-ai-fondi-mutualistici-versamento-quota-del-3/
CATEGORIES:Scadenze,Società cooperative
END:VEVENT
END:VCALENDAR