BEGIN:VCALENDAR
VERSION:2.0
PRODID:-//ST Corporate S.r.l. - ECPv6.15.20//NONSGML v1.0//EN
CALSCALE:GREGORIAN
METHOD:PUBLISH
X-ORIGINAL-URL:https://www.stcorporate.it
X-WR-CALDESC:Eventi per ST Corporate S.r.l.
REFRESH-INTERVAL;VALUE=DURATION:PT1H
X-Robots-Tag:noindex
X-PUBLISHED-TTL:PT1H
BEGIN:VTIMEZONE
TZID:Europe/Helsinki
BEGIN:DAYLIGHT
TZOFFSETFROM:+0200
TZOFFSETTO:+0300
TZNAME:EEST
DTSTART:20220327T010000
END:DAYLIGHT
BEGIN:STANDARD
TZOFFSETFROM:+0300
TZOFFSETTO:+0200
TZNAME:EET
DTSTART:20221030T010000
END:STANDARD
BEGIN:DAYLIGHT
TZOFFSETFROM:+0200
TZOFFSETTO:+0300
TZNAME:EEST
DTSTART:20230326T010000
END:DAYLIGHT
BEGIN:STANDARD
TZOFFSETFROM:+0300
TZOFFSETTO:+0200
TZNAME:EET
DTSTART:20231029T010000
END:STANDARD
BEGIN:DAYLIGHT
TZOFFSETFROM:+0200
TZOFFSETTO:+0300
TZNAME:EEST
DTSTART:20240331T010000
END:DAYLIGHT
BEGIN:STANDARD
TZOFFSETFROM:+0300
TZOFFSETTO:+0200
TZNAME:EET
DTSTART:20241027T010000
END:STANDARD
END:VTIMEZONE
BEGIN:VEVENT
DTSTART;VALUE=DATE:20231231
DTEND;VALUE=DATE:20240101
DTSTAMP:20260425T191429
CREATED:20231113T120545Z
LAST-MODIFIED:20231113T145158Z
UID:9160-1703980800-1704067199@www.stcorporate.it
SUMMARY:Percipienti provvigioni di intermediazione - Applicazione della ritenuta d'acconto - Dichiarazione al committente
DESCRIPTION:Termine per spedire al committente\, preponente o mandante\, mediante raccomandata con avviso di ricevimento o tramite posta elettronica certificata (PEC)\, la dichiarazione ai fini dell’applicazione della ritenuta d’acconto del 23% sul 20% delle provvigioni corrisposte (in pratica\, il 4\,6% delle intere provvigioni):  \nse ci si avvale dell’opera continuativa di dipendenti o di terzi;\na partire dall’anno successivo (la dichiarazione è valida fino a revoca o alla perdita dei requisiti). \nL’aliquota della ritenuta è pari a quella prevista per il primo scaglione di reddito ai fini IRPEF.
URL:https://www.stcorporate.it/scadenzario/percipienti-provvigioni-di-intermediazione-applicazione-della-ritenuta-dacconto-dichiarazione-al-committente/
CATEGORIES:Percipienti provvigioni di intermediazione,Scadenze
END:VEVENT
END:VCALENDAR