BEGIN:VCALENDAR
VERSION:2.0
PRODID:-//ST Corporate S.r.l. - ECPv6.15.20//NONSGML v1.0//EN
CALSCALE:GREGORIAN
METHOD:PUBLISH
X-ORIGINAL-URL:https://www.stcorporate.it
X-WR-CALDESC:Eventi per ST Corporate S.r.l.
REFRESH-INTERVAL;VALUE=DURATION:PT1H
X-Robots-Tag:noindex
X-PUBLISHED-TTL:PT1H
BEGIN:VTIMEZONE
TZID:Europe/Helsinki
BEGIN:STANDARD
TZOFFSETFROM:+0200
TZOFFSETTO:+0200
TZNAME:EET
DTSTART:19690101T000000
END:STANDARD
END:VTIMEZONE
BEGIN:VEVENT
DTSTART;TZID=Europe/Helsinki:20260419T163701
DTEND;TZID=Europe/Helsinki:20260419T163701
DTSTAMP:20260419T163701
CREATED:20240718T104551Z
LAST-MODIFIED:20240718T104551Z
UID:13017-0-0@www.stcorporate.it
SUMMARY:nonchè dagli atti previsti dall'art. 29 del DL 78/2010;;;;;
DESCRIPTION:
URL:https://www.stcorporate.it/scadenzario/nonch-dagli-atti-previsti-dallart-29-del-dl-78-2010-9/
CATEGORIES:inclusi quelli derivanti da cartelle di pagamento emesse dagli agenti della riscossione,Scadenze
END:VEVENT
BEGIN:VEVENT
DTSTART;TZID=Europe/Helsinki:20260419T163701
DTEND;TZID=Europe/Helsinki:20260419T163701
DTSTAMP:20260419T163701
CREATED:20240718T104350Z
LAST-MODIFIED:20240718T104350Z
UID:13013-0-0@www.stcorporate.it
SUMMARY:nonchè dagli atti previsti dall'art. 30 del DL 78/2010.;;;;;
DESCRIPTION:
URL:https://www.stcorporate.it/scadenzario/nonch-dagli-atti-previsti-dallart-30-del-dl-78-2010-8/
CATEGORIES:inclusi quelli derivanti da cartelle di pagamento emesse dagli agenti della riscossione,Scadenze
END:VEVENT
BEGIN:VEVENT
DTSTART;TZID=Europe/Helsinki:20260419T163701
DTEND;TZID=Europe/Helsinki:20260419T163701
DTSTAMP:20260419T163701
CREATED:20240718T104334Z
LAST-MODIFIED:20240718T104334Z
UID:13011-0-0@www.stcorporate.it
SUMMARY:nonchè dagli atti previsti dall'art. 29 del DL 78/2010;;;;;
DESCRIPTION:
URL:https://www.stcorporate.it/scadenzario/nonch-dagli-atti-previsti-dallart-29-del-dl-78-2010-8/
CATEGORIES:inclusi quelli derivanti da cartelle di pagamento emesse dagli agenti della riscossione,Scadenze
END:VEVENT
BEGIN:VEVENT
DTSTART;TZID=Europe/Helsinki:20260419T163701
DTEND;TZID=Europe/Helsinki:20260419T163701
DTSTAMP:20260419T163701
CREATED:20240718T104259Z
LAST-MODIFIED:20240718T104259Z
UID:13005-0-0@www.stcorporate.it
SUMMARY:nonchè dagli atti previsti dall'art. 29 del DL 78/2010;;;;;
DESCRIPTION:
URL:https://www.stcorporate.it/scadenzario/nonch-dagli-atti-previsti-dallart-29-del-dl-78-2010-7/
CATEGORIES:inclusi quelli derivanti da cartelle di pagamento emesse dagli agenti della riscossione,Scadenze
END:VEVENT
BEGIN:VEVENT
DTSTART;TZID=Europe/Helsinki:20260419T163701
DTEND;TZID=Europe/Helsinki:20260419T163701
DTSTAMP:20260419T163701
CREATED:20240718T104259Z
LAST-MODIFIED:20240718T104259Z
UID:13007-0-0@www.stcorporate.it
SUMMARY:nonchè dagli atti previsti dall'art. 30 del DL 78/2010.;;;;;
DESCRIPTION:
URL:https://www.stcorporate.it/scadenzario/nonch-dagli-atti-previsti-dallart-30-del-dl-78-2010-7/
CATEGORIES:inclusi quelli derivanti da cartelle di pagamento emesse dagli agenti della riscossione,Scadenze
END:VEVENT
BEGIN:VEVENT
DTSTART;TZID=Europe/Helsinki:20260419T163701
DTEND;TZID=Europe/Helsinki:20260419T163701
DTSTAMP:20260419T163701
CREATED:20240520T155850Z
LAST-MODIFIED:20240520T155850Z
UID:12108-0-0@www.stcorporate.it
SUMMARY:nonchè dagli atti previsti dall'art. 30 del DL 78/2010.;;;;;
DESCRIPTION:
URL:https://www.stcorporate.it/scadenzario/nonch-dagli-atti-previsti-dallart-30-del-dl-78-2010-6/
CATEGORIES:inclusi quelli derivanti da cartelle di pagamento emesse dagli agenti della riscossione,Scadenze
END:VEVENT
BEGIN:VEVENT
DTSTART;TZID=Europe/Helsinki:20260419T163701
DTEND;TZID=Europe/Helsinki:20260419T163701
DTSTAMP:20260419T163701
CREATED:20240520T155850Z
LAST-MODIFIED:20240520T155850Z
UID:12106-0-0@www.stcorporate.it
SUMMARY:nonchè dagli atti previsti dall'art. 29 del DL 78/2010;;;;;
DESCRIPTION:
URL:https://www.stcorporate.it/scadenzario/nonch-dagli-atti-previsti-dallart-29-del-dl-78-2010-6/
CATEGORIES:inclusi quelli derivanti da cartelle di pagamento emesse dagli agenti della riscossione,Scadenze
END:VEVENT
BEGIN:VEVENT
DTSTART;TZID=Europe/Helsinki:20260419T163701
DTEND;TZID=Europe/Helsinki:20260419T163701
DTSTAMP:20260419T163701
CREATED:20240520T155835Z
LAST-MODIFIED:20240520T155835Z
UID:12100-0-0@www.stcorporate.it
SUMMARY:nonchè dagli atti previsti dall'art. 29 del DL 78/2010;;;;;
DESCRIPTION:
URL:https://www.stcorporate.it/scadenzario/nonch-dagli-atti-previsti-dallart-29-del-dl-78-2010-5/
CATEGORIES:inclusi quelli derivanti da cartelle di pagamento emesse dagli agenti della riscossione,Scadenze
END:VEVENT
BEGIN:VEVENT
DTSTART;TZID=Europe/Helsinki:20260419T163701
DTEND;TZID=Europe/Helsinki:20260419T163701
DTSTAMP:20260419T163701
CREATED:20240520T155835Z
LAST-MODIFIED:20240520T155835Z
UID:12102-0-0@www.stcorporate.it
SUMMARY:nonchè dagli atti previsti dall'art. 30 del DL 78/2010.;;;;;
DESCRIPTION:
URL:https://www.stcorporate.it/scadenzario/nonch-dagli-atti-previsti-dallart-30-del-dl-78-2010-5/
CATEGORIES:inclusi quelli derivanti da cartelle di pagamento emesse dagli agenti della riscossione,Scadenze
END:VEVENT
BEGIN:VEVENT
DTSTART;TZID=Europe/Helsinki:20260419T163701
DTEND;TZID=Europe/Helsinki:20260419T163701
DTSTAMP:20260419T163701
CREATED:20240520T155820Z
LAST-MODIFIED:20240520T155820Z
UID:12096-0-0@www.stcorporate.it
SUMMARY:nonchè dagli atti previsti dall'art. 30 del DL 78/2010.;;;;;
DESCRIPTION:
URL:https://www.stcorporate.it/scadenzario/nonch-dagli-atti-previsti-dallart-30-del-dl-78-2010-4/
CATEGORIES:inclusi quelli derivanti da cartelle di pagamento emesse dagli agenti della riscossione,Scadenze
END:VEVENT
BEGIN:VEVENT
DTSTART;TZID=Europe/Helsinki:20260419T163701
DTEND;TZID=Europe/Helsinki:20260419T163701
DTSTAMP:20260419T163701
CREATED:20240520T155807Z
LAST-MODIFIED:20240520T155807Z
UID:12094-0-0@www.stcorporate.it
SUMMARY:nonchè dagli atti previsti dall'art. 29 del DL 78/2010;;;;;
DESCRIPTION:
URL:https://www.stcorporate.it/scadenzario/nonch-dagli-atti-previsti-dallart-29-del-dl-78-2010-4/
CATEGORIES:inclusi quelli derivanti da cartelle di pagamento emesse dagli agenti della riscossione,Scadenze
END:VEVENT
BEGIN:VEVENT
DTSTART;TZID=Europe/Helsinki:20260419T163701
DTEND;TZID=Europe/Helsinki:20260419T163701
DTSTAMP:20260419T163701
CREATED:20240520T155805Z
LAST-MODIFIED:20240520T155805Z
UID:12090-0-0@www.stcorporate.it
SUMMARY:nonchè dagli atti previsti dall'art. 30 del DL 78/2010.;;;;;
DESCRIPTION:
URL:https://www.stcorporate.it/scadenzario/nonch-dagli-atti-previsti-dallart-30-del-dl-78-2010-3/
CATEGORIES:inclusi quelli derivanti da cartelle di pagamento emesse dagli agenti della riscossione,Scadenze
END:VEVENT
BEGIN:VEVENT
DTSTART;TZID=Europe/Helsinki:20260419T163701
DTEND;TZID=Europe/Helsinki:20260419T163701
DTSTAMP:20260419T163701
CREATED:20240520T155751Z
LAST-MODIFIED:20240520T155751Z
UID:12088-0-0@www.stcorporate.it
SUMMARY:nonchè dagli atti previsti dall'art. 29 del DL 78/2010;;;;;
DESCRIPTION:
URL:https://www.stcorporate.it/scadenzario/nonch-dagli-atti-previsti-dallart-29-del-dl-78-2010-3/
CATEGORIES:inclusi quelli derivanti da cartelle di pagamento emesse dagli agenti della riscossione,Scadenze
END:VEVENT
BEGIN:VEVENT
DTSTART;TZID=Europe/Helsinki:20260419T163701
DTEND;TZID=Europe/Helsinki:20260419T163701
DTSTAMP:20260419T163701
CREATED:20240520T155736Z
LAST-MODIFIED:20240520T155736Z
UID:12084-0-0@www.stcorporate.it
SUMMARY:nonchè dagli atti previsti dall'art. 30 del DL 78/2010.;;;;;
DESCRIPTION:
URL:https://www.stcorporate.it/scadenzario/nonch-dagli-atti-previsti-dallart-30-del-dl-78-2010-2/
CATEGORIES:inclusi quelli derivanti da cartelle di pagamento emesse dagli agenti della riscossione,Scadenze
END:VEVENT
BEGIN:VEVENT
DTSTART;TZID=Europe/Helsinki:20260419T163701
DTEND;TZID=Europe/Helsinki:20260419T163701
DTSTAMP:20260419T163701
CREATED:20240520T155735Z
LAST-MODIFIED:20240520T155735Z
UID:12082-0-0@www.stcorporate.it
SUMMARY:nonchè dagli atti previsti dall'art. 29 del DL 78/2010;;;;;
DESCRIPTION:
URL:https://www.stcorporate.it/scadenzario/nonch-dagli-atti-previsti-dallart-29-del-dl-78-2010-2/
CATEGORIES:inclusi quelli derivanti da cartelle di pagamento emesse dagli agenti della riscossione,Scadenze
END:VEVENT
BEGIN:VEVENT
DTSTART;TZID=Europe/Helsinki:20260419T163701
DTEND;TZID=Europe/Helsinki:20260419T163701
DTSTAMP:20260419T163701
CREATED:20240520T155721Z
LAST-MODIFIED:20240520T155721Z
UID:12078-0-0@www.stcorporate.it
SUMMARY:nonchè dagli atti previsti dall'art. 30 del DL 78/2010.;;;;;
DESCRIPTION:
URL:https://www.stcorporate.it/scadenzario/nonch-dagli-atti-previsti-dallart-30-del-dl-78-2010/
CATEGORIES:inclusi quelli derivanti da cartelle di pagamento emesse dagli agenti della riscossione,Scadenze
END:VEVENT
BEGIN:VEVENT
DTSTART;TZID=Europe/Helsinki:20260419T163701
DTEND;TZID=Europe/Helsinki:20260419T163701
DTSTAMP:20260419T163701
CREATED:20240520T155720Z
LAST-MODIFIED:20240520T155720Z
UID:12076-0-0@www.stcorporate.it
SUMMARY:nonchè dagli atti previsti dall'art. 29 del DL 78/2010;;;;;
DESCRIPTION:
URL:https://www.stcorporate.it/scadenzario/nonch-dagli-atti-previsti-dallart-29-del-dl-78-2010/
CATEGORIES:inclusi quelli derivanti da cartelle di pagamento emesse dagli agenti della riscossione,Scadenze
END:VEVENT
END:VCALENDAR