BEGIN:VCALENDAR
VERSION:2.0
PRODID:-//ST Corporate S.r.l. - ECPv6.15.20//NONSGML v1.0//EN
CALSCALE:GREGORIAN
METHOD:PUBLISH
X-ORIGINAL-URL:https://www.stcorporate.it
X-WR-CALDESC:Eventi per ST Corporate S.r.l.
REFRESH-INTERVAL;VALUE=DURATION:PT1H
X-Robots-Tag:noindex
X-PUBLISHED-TTL:PT1H
BEGIN:VTIMEZONE
TZID:Europe/Helsinki
BEGIN:STANDARD
TZOFFSETFROM:+0200
TZOFFSETTO:+0200
TZNAME:EET
DTSTART:19690101T000000
END:STANDARD
END:VTIMEZONE
BEGIN:VEVENT
DTSTART;TZID=Europe/Helsinki:20260425T182224
DTEND;TZID=Europe/Helsinki:20260425T182224
DTSTAMP:20260425T182224
CREATED:20241210T143434Z
LAST-MODIFIED:20241210T143434Z
UID:15093-0-0@www.stcorporate.it
SUMMARY:per poi chiudersi con il bilancio.;;;;;;;
DESCRIPTION:
URL:https://www.stcorporate.it/scadenzario/per-poi-chiudersi-con-il-bilancio-16/
CATEGORIES:in cui si procede alla stima delle stesse,Scadenze
END:VEVENT
BEGIN:VEVENT
DTSTART;TZID=Europe/Helsinki:20260425T182224
DTEND;TZID=Europe/Helsinki:20260425T182224
DTSTAMP:20260425T182224
CREATED:20241210T143433Z
LAST-MODIFIED:20241210T143433Z
UID:15091-0-0@www.stcorporate.it
SUMMARY:per poi chiudersi con il bilancio.;;;;;;;
DESCRIPTION:
URL:https://www.stcorporate.it/scadenzario/per-poi-chiudersi-con-il-bilancio-15/
CATEGORIES:in cui si procede alla stima delle stesse,Scadenze
END:VEVENT
BEGIN:VEVENT
DTSTART;TZID=Europe/Helsinki:20260425T182224
DTEND;TZID=Europe/Helsinki:20260425T182224
DTSTAMP:20260425T182224
CREATED:20241210T143109Z
LAST-MODIFIED:20241210T143109Z
UID:15089-0-0@www.stcorporate.it
SUMMARY:per poi chiudersi con il bilancio.;;;;;;;
DESCRIPTION:
URL:https://www.stcorporate.it/scadenzario/per-poi-chiudersi-con-il-bilancio-14/
CATEGORIES:in cui si procede alla stima delle stesse,Scadenze
END:VEVENT
BEGIN:VEVENT
DTSTART;TZID=Europe/Helsinki:20260425T182224
DTEND;TZID=Europe/Helsinki:20260425T182224
DTSTAMP:20260425T182224
CREATED:20241210T143047Z
LAST-MODIFIED:20241210T143047Z
UID:15086-0-0@www.stcorporate.it
SUMMARY:per poi chiudersi con il bilancio. ;;;;;;;
DESCRIPTION:
URL:https://www.stcorporate.it/scadenzario/per-poi-chiudersi-con-il-bilancio-13/
CATEGORIES:in cui si procede alla stima delle stesse,Scadenze
END:VEVENT
BEGIN:VEVENT
DTSTART;TZID=Europe/Helsinki:20260425T182224
DTEND;TZID=Europe/Helsinki:20260425T182224
DTSTAMP:20260425T182224
CREATED:20241210T143045Z
LAST-MODIFIED:20241210T143045Z
UID:15085-0-0@www.stcorporate.it
SUMMARY:per poi chiudersi con il bilancio. ;;;;;;;
DESCRIPTION:
URL:https://www.stcorporate.it/scadenzario/per-poi-chiudersi-con-il-bilancio-12/
CATEGORIES:in cui si procede alla stima delle stesse,Scadenze
END:VEVENT
BEGIN:VEVENT
DTSTART;TZID=Europe/Helsinki:20260425T182224
DTEND;TZID=Europe/Helsinki:20260425T182224
DTSTAMP:20260425T182224
CREATED:20241210T143028Z
LAST-MODIFIED:20241210T143028Z
UID:15083-0-0@www.stcorporate.it
SUMMARY:per poi chiudersi con il bilancio.;;;;;;;
DESCRIPTION:
URL:https://www.stcorporate.it/scadenzario/per-poi-chiudersi-con-il-bilancio-11/
CATEGORIES:in cui si procede alla stima delle stesse,Scadenze
END:VEVENT
BEGIN:VEVENT
DTSTART;TZID=Europe/Helsinki:20260425T182224
DTEND;TZID=Europe/Helsinki:20260425T182224
DTSTAMP:20260425T182224
CREATED:20241210T143027Z
LAST-MODIFIED:20241210T143027Z
UID:15081-0-0@www.stcorporate.it
SUMMARY:per poi chiudersi con il bilancio.;;;;;;;
DESCRIPTION:
URL:https://www.stcorporate.it/scadenzario/per-poi-chiudersi-con-il-bilancio-10/
CATEGORIES:in cui si procede alla stima delle stesse,Scadenze
END:VEVENT
BEGIN:VEVENT
DTSTART;TZID=Europe/Helsinki:20260425T182224
DTEND;TZID=Europe/Helsinki:20260425T182224
DTSTAMP:20260425T182224
CREATED:20241122T112715Z
LAST-MODIFIED:20241122T112715Z
UID:14843-0-0@www.stcorporate.it
SUMMARY:per poi chiudersi con il bilancio.;;;;;;;
DESCRIPTION:
URL:https://www.stcorporate.it/scadenzario/per-poi-chiudersi-con-il-bilancio-9/
CATEGORIES:in cui si procede alla stima delle stesse,Scadenze
END:VEVENT
BEGIN:VEVENT
DTSTART;TZID=Europe/Helsinki:20260425T182224
DTEND;TZID=Europe/Helsinki:20260425T182224
DTSTAMP:20260425T182224
CREATED:20241122T112642Z
LAST-MODIFIED:20241122T112642Z
UID:14840-0-0@www.stcorporate.it
SUMMARY:per poi chiudersi con il bilancio.;;;;;;;
DESCRIPTION:
URL:https://www.stcorporate.it/scadenzario/per-poi-chiudersi-con-il-bilancio-8/
CATEGORIES:in cui si procede alla stima delle stesse,Scadenze
END:VEVENT
BEGIN:VEVENT
DTSTART;TZID=Europe/Helsinki:20260425T182224
DTEND;TZID=Europe/Helsinki:20260425T182224
DTSTAMP:20260425T182224
CREATED:20241122T112138Z
LAST-MODIFIED:20241122T112138Z
UID:14838-0-0@www.stcorporate.it
SUMMARY:per poi chiudersi con il bilancio. ;;;;;;;
DESCRIPTION:
URL:https://www.stcorporate.it/scadenzario/per-poi-chiudersi-con-il-bilancio-7/
CATEGORIES:in cui si procede alla stima delle stesse,Scadenze
END:VEVENT
BEGIN:VEVENT
DTSTART;TZID=Europe/Helsinki:20260425T182224
DTEND;TZID=Europe/Helsinki:20260425T182224
DTSTAMP:20260425T182224
CREATED:20241122T112120Z
LAST-MODIFIED:20241122T112120Z
UID:14836-0-0@www.stcorporate.it
SUMMARY:per poi chiudersi con il bilancio.;;;;;;;
DESCRIPTION:
URL:https://www.stcorporate.it/scadenzario/per-poi-chiudersi-con-il-bilancio-6/
CATEGORIES:in cui si procede alla stima delle stesse,Scadenze
END:VEVENT
BEGIN:VEVENT
DTSTART;TZID=Europe/Helsinki:20260425T182224
DTEND;TZID=Europe/Helsinki:20260425T182224
DTSTAMP:20260425T182224
CREATED:20241122T112119Z
LAST-MODIFIED:20241122T112119Z
UID:14834-0-0@www.stcorporate.it
SUMMARY:per poi chiudersi con il bilancio.;;;;;;;
DESCRIPTION:
URL:https://www.stcorporate.it/scadenzario/per-poi-chiudersi-con-il-bilancio-5/
CATEGORIES:in cui si procede alla stima delle stesse,Scadenze
END:VEVENT
BEGIN:VEVENT
DTSTART;TZID=Europe/Helsinki:20260425T182224
DTEND;TZID=Europe/Helsinki:20260425T182224
DTSTAMP:20260425T182224
CREATED:20241121T160429Z
LAST-MODIFIED:20241121T160429Z
UID:14577-0-0@www.stcorporate.it
SUMMARY:per poi chiudersi con il bilancio.;;;;;;;
DESCRIPTION:
URL:https://www.stcorporate.it/scadenzario/per-poi-chiudersi-con-il-bilancio-4/
CATEGORIES:in cui si procede alla stima delle stesse,Scadenze
END:VEVENT
BEGIN:VEVENT
DTSTART;TZID=Europe/Helsinki:20260425T182224
DTEND;TZID=Europe/Helsinki:20260425T182224
DTSTAMP:20260425T182224
CREATED:20241121T160344Z
LAST-MODIFIED:20241121T160344Z
UID:14575-0-0@www.stcorporate.it
SUMMARY:per poi chiudersi con il bilancio.;;;;;;;
DESCRIPTION:
URL:https://www.stcorporate.it/scadenzario/per-poi-chiudersi-con-il-bilancio-3/
CATEGORIES:in cui si procede alla stima delle stesse,Scadenze
END:VEVENT
BEGIN:VEVENT
DTSTART;TZID=Europe/Helsinki:20260425T182224
DTEND;TZID=Europe/Helsinki:20260425T182224
DTSTAMP:20260425T182224
CREATED:20241121T160259Z
LAST-MODIFIED:20241121T160259Z
UID:14573-0-0@www.stcorporate.it
SUMMARY:per poi chiudersi con il bilancio. ;;;;;;;
DESCRIPTION:
URL:https://www.stcorporate.it/scadenzario/per-poi-chiudersi-con-il-bilancio-2/
CATEGORIES:in cui si procede alla stima delle stesse,Scadenze
END:VEVENT
BEGIN:VEVENT
DTSTART;TZID=Europe/Helsinki:20260425T182224
DTEND;TZID=Europe/Helsinki:20260425T182224
DTSTAMP:20260425T182224
CREATED:20241121T160235Z
LAST-MODIFIED:20241121T160235Z
UID:14570-0-0@www.stcorporate.it
SUMMARY:per poi chiudersi con il bilancio.;;;;;;;
DESCRIPTION:
URL:https://www.stcorporate.it/scadenzario/per-poi-chiudersi-con-il-bilancio/
CATEGORIES:in cui si procede alla stima delle stesse,Scadenze
END:VEVENT
END:VCALENDAR