BEGIN:VCALENDAR
VERSION:2.0
PRODID:-//ST Corporate S.r.l. - ECPv6.15.20//NONSGML v1.0//EN
CALSCALE:GREGORIAN
METHOD:PUBLISH
X-WR-CALNAME:ST Corporate S.r.l.
X-ORIGINAL-URL:https://www.stcorporate.it
X-WR-CALDESC:Eventi per ST Corporate S.r.l.
REFRESH-INTERVAL;VALUE=DURATION:PT1H
X-Robots-Tag:noindex
X-PUBLISHED-TTL:PT1H
BEGIN:VTIMEZONE
TZID:UTC
BEGIN:STANDARD
TZOFFSETFROM:+0000
TZOFFSETTO:+0000
TZNAME:UTC
DTSTART:20220101T000000
END:STANDARD
END:VTIMEZONE
BEGIN:VEVENT
DTSTART;VALUE=DATE:20230915
DTEND;VALUE=DATE:20230916
DTSTAMP:20260419T181053
CREATED:20230713T085049Z
LAST-MODIFIED:20230713T085049Z
UID:8137-1694736000-1694822399@www.stcorporate.it
SUMMARY:Operazioni fatturate nel mese precedente - Annotazione nei registri o nel prospetto riepilogativo
DESCRIPTION:Termine per annotare l’ammontare complessivo\, distinto per aliquota\, delle operazioni fatturate nel mese precedente: \nnei registri previsti ai fini IVA;\novvero nel modello di prospetto riepilogativo previsto per i c.d. contribuenti “supersemplificati” (regime attualmente abrogato). \nIl prospetto deve essere numerato progressivamente prima di essere messo in uso.
URL:https://www.stcorporate.it/scadenzario/operazioni-fatturate-nel-mese-precedente-annotazione-nei-registri-o-nel-prospetto-riepilogativo-3/
CATEGORIES:Enti non commerciali,Scadenze
END:VEVENT
END:VCALENDAR