BEGIN:VCALENDAR
VERSION:2.0
PRODID:-//ST Corporate S.r.l. - ECPv6.15.20//NONSGML v1.0//EN
CALSCALE:GREGORIAN
METHOD:PUBLISH
X-WR-CALNAME:ST Corporate S.r.l.
X-ORIGINAL-URL:https://www.stcorporate.it
X-WR-CALDESC:Eventi per ST Corporate S.r.l.
REFRESH-INTERVAL;VALUE=DURATION:PT1H
X-Robots-Tag:noindex
X-PUBLISHED-TTL:PT1H
BEGIN:VTIMEZONE
TZID:UTC
BEGIN:STANDARD
TZOFFSETFROM:+0000
TZOFFSETTO:+0000
TZNAME:UTC
DTSTART:20220101T000000
END:STANDARD
END:VTIMEZONE
BEGIN:VEVENT
DTSTART;VALUE=DATE:20230914
DTEND;VALUE=DATE:20230915
DTSTAMP:20260419T201901
CREATED:20230713T074839Z
LAST-MODIFIED:20230713T084314Z
UID:7878-1694649600-1694735999@www.stcorporate.it
SUMMARY:IMU enti non commerciali - Omessi\, insufficienti o tardivi versamenti relativi al saldo dovuto - Regolarizzazione
DESCRIPTION:Regolarizzazione degli omessi\, insufficienti o tardivi versamenti\, la cui scadenza era il 16.6.2023\, relativi: \nal conguaglio dell’imposta municipale propria (IMU) complessivamente dovuta per il 2022;\nalla prima rata dell’IMU dovuta per il 2023\, pari al 50% dell’imposta complessivamente corrisposta per il 2022. \nIn generale\, la base imponibile dell’IMU è costituita dal valore degli immobili.\nLe modalità di determinazione della base imponibile variano in funzione della tipologia di bene immobiliare interessata\, e quindi\, a seconda che si tratti di: \nfabbricati;\naree fabbricabili;\nterreni agricoli. \nL’imposta è dovuta (e deve essere liquidata)\, per anni solari\, in proporzione alla quota di possesso e ai mesi dell’anno durante i quali si è protratto il possesso.\nIl mese durante il quale il possesso si è protratto per più della metà dei giorni di cui il mese stesso è composto è computato per intero.\nSi computano in capo all’acquirente dell’immobile: \nil giorno del trasferimento del possesso;\nl’intero mese del trasferimento se i giorni di possesso risultano uguale a quelli del cedente. \nIl versamento dell’IMU non è dovuto se l’importo complessivamente spettante al Comune per l’intero anno è inferiore a 12\,00 euro\, salvo che sia stabilito diversamente dall’ente locale.\nL’importo da pagare deve essere opportunamente arrotondato all’unità di euro: \nper difetto\, se la frazione è inferiore o uguale a 0\,49 euro;\nper eccesso\, se la frazione è superiore a 0\,49 euro. \nGli enti non commerciali possono compensare\, in sede di versamento\, l’eventuale credito maturato nei confronti del Comune\, risultante dalle dichiarazioni presentate.
URL:https://www.stcorporate.it/scadenzario/imu-enti-non-commerciali-omessi-insufficienti-o-tardivi-versamenti-relativi-al-saldo-dovuto-regolarizzazione-2/
CATEGORIES:Enti non commerciali,Scadenze
END:VEVENT
END:VCALENDAR