BEGIN:VCALENDAR
VERSION:2.0
PRODID:-//ST Corporate S.r.l. - ECPv6.15.20//NONSGML v1.0//EN
CALSCALE:GREGORIAN
METHOD:PUBLISH
X-ORIGINAL-URL:https://www.stcorporate.it
X-WR-CALDESC:Eventi per ST Corporate S.r.l.
REFRESH-INTERVAL;VALUE=DURATION:PT1H
X-Robots-Tag:noindex
X-PUBLISHED-TTL:PT1H
BEGIN:VTIMEZONE
TZID:UTC
BEGIN:STANDARD
TZOFFSETFROM:+0000
TZOFFSETTO:+0000
TZNAME:UTC
DTSTART:20220101T000000
END:STANDARD
END:VTIMEZONE
BEGIN:VEVENT
DTSTART;VALUE=DATE:20230831
DTEND;VALUE=DATE:20230901
DTSTAMP:20260421T153720
CREATED:20230713T055008Z
LAST-MODIFIED:20230713T061010Z
UID:7524-1693440000-1693526399@www.stcorporate.it
SUMMARY:Saldo e acconto IRAP - Versamento rateale degli importi dovuti - Soggetti senza partita IVA
DESCRIPTION:Versamento\, da parte di soggetti senza partita IVA\, della rata degli importi dovuti a saldo o in acconto\, con applicazione dei previsti interessi.L’adempimento riguarda nello specifico: \nla terza rata degli importi dovuti a saldo per l’anno 2022 ed eventuale primo acconto per l’anno 2023 per i soggetti che hanno versato la prima rata entro il 30.6.2023 o il 20.7.2023;\nla terza rata degli importi dovuti a saldo per l’anno 2022 ed eventuale primo acconto per l’anno 2023 per i soggetti che hanno versato le prime due rate entro il 31.7.2023\, con la maggiorazione dello 0\,4% a titolo di interesse corrispettivo;\ncon riferimento alla dichiarazione IRAP 2023. \nLe somme dovute a titolo di saldo e di acconto delle imposte possono essere versate in rate mensili di uguale importo\, con la maggiorazione degli interessi\, a decorrere dal giorno di scadenza del versamento in unica soluzione.\nIl pagamento deve essere completato entro il mese di novembre dello stesso anno di presentazione della dichiarazione.
URL:https://www.stcorporate.it/scadenzario/saldo-e-acconto-irap-versamento-rateale-degli-importi-dovuti-soggetti-senza-partita-iva-2/
CATEGORIES:Enti non commerciali,Scadenze
END:VEVENT
BEGIN:VEVENT
DTSTART;VALUE=DATE:20230831
DTEND;VALUE=DATE:20230901
DTSTAMP:20260421T153720
CREATED:20230713T055017Z
LAST-MODIFIED:20230713T060817Z
UID:7532-1693440000-1693526399@www.stcorporate.it
SUMMARY:Saldo e acconto IRES - Versamento rateale degli importi dovuti - Soggetti senza partita IVA
DESCRIPTION:Versamento\, da parte di soggetti senza partita IVA\, della rata degli importi dovuti a saldo o in acconto\, con applicazione dei previsti interessi.L’adempimento riguarda nello specifico: \nla terza rata degli importi dovuti a saldo per l’anno 2022 ed eventuale primo acconto per l’anno 2023 per i soggetti che hanno versato la prima rata entro il 30.6.2023 o il 20.7.2023;\nla terza rata degli importi dovuti a saldo per l’anno 2022 ed eventuale primo acconto per l’anno 2023 per i soggetti che hanno versato le prime due rate entro il 31.7.2023\, con la maggiorazione dello 0\,4% a titolo di interesse corrispettivo;\ncon riferimento alla dichiarazione dei redditi 2023. \nLe somme dovute a titolo di saldo e di acconto delle imposte possono essere versate in rate mensili di uguale importo\, con la maggiorazione degli interessi\, a decorrere dal giorno di scadenza del versamento in unica soluzione.\nIl pagamento deve essere completato entro il mese di novembre dello stesso anno di presentazione della dichiarazione.
URL:https://www.stcorporate.it/scadenzario/saldo-e-acconto-ires-versamento-rateale-degli-importi-dovuti-soggetti-senza-partita-iva-2/
CATEGORIES:Enti non commerciali,Scadenze
END:VEVENT
BEGIN:VEVENT
DTSTART;VALUE=DATE:20230831
DTEND;VALUE=DATE:20230901
DTSTAMP:20260421T153720
CREATED:20230713T071205Z
LAST-MODIFIED:20230713T071205Z
UID:7776-1693440000-1693526399@www.stcorporate.it
SUMMARY:Modello INTRA 12 - Acquisti intracomunitari di beni e servizi da soggetti non residenti - Versamento e dichiarazione dell'imposta
DESCRIPTION:Termine\, per i soggetti non passivi d’imposta che hanno effettuato acquisti intracomunitari\, per: \nversare l’imposta dovuta sugli acquisti intracomunitari di beni e sugli acquisti di beni e servizi da soggetti non residenti\, registrati con riferimento al secondo mese precedente. L’imposta è versata cumulativamente per tutti gli acquisti registrati nel mese;\npresentare la relativa dichiarazione mensile\, con indicazione dell’imposta dovuta e versata. Dalla dichiarazione devono risultare l’ammontare degli acquisti\, quello dell’imposta dovuta e gli estremi del relativo attestato di versamento.
URL:https://www.stcorporate.it/scadenzario/modello-intra-12-acquisti-intracomunitari-di-beni-e-servizi-da-soggetti-non-residenti-versamento-e-dichiarazione-dellimposta-3/
CATEGORIES:Enti non commerciali,Imprenditori agricoli,Scadenze
END:VEVENT
BEGIN:VEVENT
DTSTART;VALUE=DATE:20230831
DTEND;VALUE=DATE:20230901
DTSTAMP:20260421T153720
CREATED:20230713T072121Z
LAST-MODIFIED:20230713T072121Z
UID:7801-1693440000-1693526399@www.stcorporate.it
SUMMARY:Soggetti con domicilio fiscale\, sede legale o sede operativa nel territorio del Comune di Lampedusa e Linosa - Riduzione dei versamenti - Versamento rateale degli importi
DESCRIPTION:Termine\, per i soggetti aventi il domicilio fiscale\, la sede legale o la sede operativa nel territorio del Comune di Lampedusa e Linosa\, per il versamento rateale del 50% degli importi dovuti in relazione: \nai tributi\, ad eccezione dell’IVA\, ai contributi previdenziali ed assistenziali e ai premi INAIL per l’assicurazione obbligatoria contro gli infortuni e le malattie professionali scaduti il 21.12.2020 o nelle annualità 2018 e 2019;\nnella misura ridotta del 40% dell’importo dovuto\, senza applicazione di sanzioni e interessi. \nI contribuenti possono versare gli importi: \nin un’unica soluzione entro il 30.6.2023;\nmediante rateizzazione\, fino ad un massimo di quattro rate mensili di pari importo per le somme da versare entro il 30.6.2023. \nIl restante 50% degli importi deve essere versato entro il 30.11.2023 (in un’unica soluzione o in forma rateale).
URL:https://www.stcorporate.it/scadenzario/soggetti-con-domicilio-fiscale-sede-legale-o-sede-operativa-nel-territorio-del-comune-di-lampedusa-e-linosa-riduzione-dei-versamenti-versamento-rateale-degli-importi-4/
CATEGORIES:Datori di lavoro,Enti commerciali,Enti non commerciali,Persone fisiche,Scadenze,Società di capitali,Società di persone
END:VEVENT
END:VCALENDAR