BEGIN:VCALENDAR
VERSION:2.0
PRODID:-//ST Corporate S.r.l. - ECPv6.15.20//NONSGML v1.0//EN
CALSCALE:GREGORIAN
METHOD:PUBLISH
X-WR-CALNAME:ST Corporate S.r.l.
X-ORIGINAL-URL:https://www.stcorporate.it
X-WR-CALDESC:Eventi per ST Corporate S.r.l.
REFRESH-INTERVAL;VALUE=DURATION:PT1H
X-Robots-Tag:noindex
X-PUBLISHED-TTL:PT1H
BEGIN:VTIMEZONE
TZID:Europe/Helsinki
BEGIN:STANDARD
TZOFFSETFROM:+0200
TZOFFSETTO:+0200
TZNAME:EET
DTSTART:19690101T000000
END:STANDARD
END:VTIMEZONE
BEGIN:VEVENT
DTSTART;TZID=Europe/Helsinki:20260426T052229
DTEND;TZID=Europe/Helsinki:20260426T052229
DTSTAMP:20260426T052229
CREATED:20240718T095304Z
LAST-MODIFIED:20240718T095304Z
UID:12870-0-0@www.stcorporate.it
SUMMARY:tenuto al versamento entro il 16 giugno e il 16 dicembre di ogni anno
DESCRIPTION:qualora non sia stato raggiunto il suddetto importo minimo.;;;;;
URL:https://www.stcorporate.it/scadenzario/tenuto-al-versamento-entro-il-16-giugno-e-il-16-dicembre-di-ogni-anno-2/
CATEGORIES:comunque,Scadenze
END:VEVENT
BEGIN:VEVENT
DTSTART;TZID=Europe/Helsinki:20260426T052229
DTEND;TZID=Europe/Helsinki:20260426T052229
DTSTAMP:20260426T052229
CREATED:20240520T145447Z
LAST-MODIFIED:20240520T145447Z
UID:12004-0-0@www.stcorporate.it
SUMMARY:tenuto al versamento entro il 16 dicembre di ogni anno
DESCRIPTION:qualora non sia stato raggiunto il suddetto importo minimo.;;;;;
URL:https://www.stcorporate.it/scadenzario/tenuto-al-versamento-entro-il-16-dicembre-di-ogni-anno-2/
CATEGORIES:comunque,Scadenze
END:VEVENT
BEGIN:VEVENT
DTSTART;TZID=Europe/Helsinki:20260426T052229
DTEND;TZID=Europe/Helsinki:20260426T052229
DTSTAMP:20260426T052229
CREATED:20240520T145332Z
LAST-MODIFIED:20240520T145332Z
UID:11996-0-0@www.stcorporate.it
SUMMARY:tenuto al versamento entro il 16 dicembre di ogni anno
DESCRIPTION:qualora non sia stato raggiunto il suddetto importo minimo.;;;;;
URL:https://www.stcorporate.it/scadenzario/tenuto-al-versamento-entro-il-16-dicembre-di-ogni-anno/
CATEGORIES:comunque,Scadenze
END:VEVENT
BEGIN:VEVENT
DTSTART;TZID=Europe/Helsinki:20260426T052229
DTEND;TZID=Europe/Helsinki:20260426T052229
DTSTAMP:20260426T052229
CREATED:20240520T142729Z
LAST-MODIFIED:20240520T142729Z
UID:11911-0-0@www.stcorporate.it
SUMMARY:tenuto al versamento entro il 16 giugno e il 16 dicembre di ogni anno
DESCRIPTION:qualora non sia stato raggiunto il suddetto importo minimo.;;;;;
URL:https://www.stcorporate.it/scadenzario/tenuto-al-versamento-entro-il-16-giugno-e-il-16-dicembre-di-ogni-anno/
CATEGORIES:comunque,Scadenze
END:VEVENT
BEGIN:VEVENT
DTSTART;TZID=Europe/Helsinki:20260426T052229
DTEND;TZID=Europe/Helsinki:20260426T052229
DTSTAMP:20260426T052229
CREATED:20240520T142729Z
LAST-MODIFIED:20240520T142729Z
UID:11913-0-0@www.stcorporate.it
SUMMARY:continuare a effettuare il versamento delle ritenute in parola
DESCRIPTION:entro il giorno 16 del mese successivo a quello in cui sono state operate o avrebbero dovuto essere operate
URL:https://www.stcorporate.it/scadenzario/continuare-a-effettuare-il-versamento-delle-ritenute-in-parola/
CATEGORIES:comunque,Scadenze
END:VEVENT
END:VCALENDAR