BEGIN:VCALENDAR
VERSION:2.0
PRODID:-//ST Corporate S.r.l. - ECPv6.15.20//NONSGML v1.0//EN
CALSCALE:GREGORIAN
METHOD:PUBLISH
X-WR-CALNAME:ST Corporate S.r.l.
X-ORIGINAL-URL:https://www.stcorporate.it
X-WR-CALDESC:Eventi per ST Corporate S.r.l.
REFRESH-INTERVAL;VALUE=DURATION:PT1H
X-Robots-Tag:noindex
X-PUBLISHED-TTL:PT1H
BEGIN:VTIMEZONE
TZID:Europe/Helsinki
BEGIN:STANDARD
TZOFFSETFROM:+0200
TZOFFSETTO:+0200
TZNAME:EET
DTSTART:19690101T000000
END:STANDARD
END:VTIMEZONE
BEGIN:VEVENT
DTSTART;TZID=Europe/Helsinki:20260426T040537
DTEND;TZID=Europe/Helsinki:20260426T040537
DTSTAMP:20260426T040537
CREATED:20240718T145221Z
LAST-MODIFIED:20240718T145221Z
UID:13257-0-0@www.stcorporate.it
SUMMARY:il termine è anticipato al 30.8.2024.;;;;;
DESCRIPTION:
URL:https://www.stcorporate.it/scadenzario/il-termine-anticipato-al-30-8-2024-11/
CATEGORIES:cadendo il 31.8.2024 di sabato,Scadenze
END:VEVENT
BEGIN:VEVENT
DTSTART;TZID=Europe/Helsinki:20260426T040537
DTEND;TZID=Europe/Helsinki:20260426T040537
DTSTAMP:20260426T040537
CREATED:20240718T145220Z
LAST-MODIFIED:20240718T145220Z
UID:13255-0-0@www.stcorporate.it
SUMMARY:il termine è anticipato al 30.8.2024.;;;;;
DESCRIPTION:
URL:https://www.stcorporate.it/scadenzario/il-termine-anticipato-al-30-8-2024-10/
CATEGORIES:cadendo il 31.8.2024 di sabato,Scadenze
END:VEVENT
BEGIN:VEVENT
DTSTART;TZID=Europe/Helsinki:20260426T040537
DTEND;TZID=Europe/Helsinki:20260426T040537
DTSTAMP:20260426T040537
CREATED:20240718T145209Z
LAST-MODIFIED:20240718T145209Z
UID:13253-0-0@www.stcorporate.it
SUMMARY:il termine è anticipato al 30.8.2024.;;;;;
DESCRIPTION:
URL:https://www.stcorporate.it/scadenzario/il-termine-anticipato-al-30-8-2024-9/
CATEGORIES:cadendo il 31.8.2024 di sabato,Scadenze
END:VEVENT
BEGIN:VEVENT
DTSTART;TZID=Europe/Helsinki:20260426T040537
DTEND;TZID=Europe/Helsinki:20260426T040537
DTSTAMP:20260426T040537
CREATED:20240718T145207Z
LAST-MODIFIED:20240718T145207Z
UID:13251-0-0@www.stcorporate.it
SUMMARY:il termine è anticipato al 30.8.2024.;;;;;
DESCRIPTION:
URL:https://www.stcorporate.it/scadenzario/il-termine-anticipato-al-30-8-2024-8/
CATEGORIES:cadendo il 31.8.2024 di sabato,Scadenze
END:VEVENT
BEGIN:VEVENT
DTSTART;TZID=Europe/Helsinki:20260426T040537
DTEND;TZID=Europe/Helsinki:20260426T040537
DTSTAMP:20260426T040537
CREATED:20240718T145206Z
LAST-MODIFIED:20240718T145206Z
UID:13249-0-0@www.stcorporate.it
SUMMARY:il termine è anticipato al 30.8.2024.;;;;;
DESCRIPTION:
URL:https://www.stcorporate.it/scadenzario/il-termine-anticipato-al-30-8-2024-7/
CATEGORIES:cadendo il 31.8.2024 di sabato,Scadenze
END:VEVENT
BEGIN:VEVENT
DTSTART;TZID=Europe/Helsinki:20260426T040537
DTEND;TZID=Europe/Helsinki:20260426T040537
DTSTAMP:20260426T040537
CREATED:20240718T145204Z
LAST-MODIFIED:20240718T145204Z
UID:13247-0-0@www.stcorporate.it
SUMMARY:il termine è anticipato al 30.8.2024.;;;;;
DESCRIPTION:
URL:https://www.stcorporate.it/scadenzario/il-termine-anticipato-al-30-8-2024-6/
CATEGORIES:cadendo il 31.8.2024 di sabato,Scadenze
END:VEVENT
BEGIN:VEVENT
DTSTART;TZID=Europe/Helsinki:20260426T040537
DTEND;TZID=Europe/Helsinki:20260426T040537
DTSTAMP:20260426T040537
CREATED:20240718T145203Z
LAST-MODIFIED:20240718T145203Z
UID:13245-0-0@www.stcorporate.it
SUMMARY:il termine è anticipato al 30.8.2024.;;;;;
DESCRIPTION:
URL:https://www.stcorporate.it/scadenzario/il-termine-anticipato-al-30-8-2024-5/
CATEGORIES:cadendo il 31.8.2024 di sabato,Scadenze
END:VEVENT
BEGIN:VEVENT
DTSTART;TZID=Europe/Helsinki:20260426T040537
DTEND;TZID=Europe/Helsinki:20260426T040537
DTSTAMP:20260426T040537
CREATED:20240718T145132Z
LAST-MODIFIED:20240718T145132Z
UID:13238-0-0@www.stcorporate.it
SUMMARY:il termine è anticipato al 30.8.2024.;;;;;
DESCRIPTION:
URL:https://www.stcorporate.it/scadenzario/il-termine-anticipato-al-30-8-2024-4/
CATEGORIES:cadendo il 31.8.2024 di sabato,Scadenze
END:VEVENT
BEGIN:VEVENT
DTSTART;TZID=Europe/Helsinki:20260426T040537
DTEND;TZID=Europe/Helsinki:20260426T040537
DTSTAMP:20260426T040537
CREATED:20240718T145130Z
LAST-MODIFIED:20240718T145130Z
UID:13236-0-0@www.stcorporate.it
SUMMARY:il termine è anticipato al 30.8.2024.;;;;;
DESCRIPTION:
URL:https://www.stcorporate.it/scadenzario/il-termine-anticipato-al-30-8-2024-3/
CATEGORIES:cadendo il 31.8.2024 di sabato,Scadenze
END:VEVENT
BEGIN:VEVENT
DTSTART;TZID=Europe/Helsinki:20260426T040537
DTEND;TZID=Europe/Helsinki:20260426T040537
DTSTAMP:20260426T040537
CREATED:20240718T145117Z
LAST-MODIFIED:20240718T145117Z
UID:13234-0-0@www.stcorporate.it
SUMMARY:il termine è anticipato al 30.8.2024.;;;;;
DESCRIPTION:
URL:https://www.stcorporate.it/scadenzario/il-termine-anticipato-al-30-8-2024-2/
CATEGORIES:cadendo il 31.8.2024 di sabato,Scadenze
END:VEVENT
BEGIN:VEVENT
DTSTART;TZID=Europe/Helsinki:20260426T040537
DTEND;TZID=Europe/Helsinki:20260426T040537
DTSTAMP:20260426T040537
CREATED:20240718T145113Z
LAST-MODIFIED:20240718T145113Z
UID:13232-0-0@www.stcorporate.it
SUMMARY:il termine è anticipato al 30.8.2024.;;;;;
DESCRIPTION:
URL:https://www.stcorporate.it/scadenzario/il-termine-anticipato-al-30-8-2024/
CATEGORIES:cadendo il 31.8.2024 di sabato,Scadenze
END:VEVENT
END:VCALENDAR