BEGIN:VCALENDAR
VERSION:2.0
PRODID:-//ST Corporate S.r.l. - ECPv6.15.20//NONSGML v1.0//EN
CALSCALE:GREGORIAN
METHOD:PUBLISH
X-WR-CALNAME:ST Corporate S.r.l.
X-ORIGINAL-URL:https://www.stcorporate.it
X-WR-CALDESC:Eventi per ST Corporate S.r.l.
REFRESH-INTERVAL;VALUE=DURATION:PT1H
X-Robots-Tag:noindex
X-PUBLISHED-TTL:PT1H
BEGIN:VTIMEZONE
TZID:Europe/Helsinki
BEGIN:DAYLIGHT
TZOFFSETFROM:+0200
TZOFFSETTO:+0300
TZNAME:EEST
DTSTART:20220327T010000
END:DAYLIGHT
BEGIN:STANDARD
TZOFFSETFROM:+0300
TZOFFSETTO:+0200
TZNAME:EET
DTSTART:20221030T010000
END:STANDARD
BEGIN:DAYLIGHT
TZOFFSETFROM:+0200
TZOFFSETTO:+0300
TZNAME:EEST
DTSTART:20230326T010000
END:DAYLIGHT
BEGIN:STANDARD
TZOFFSETFROM:+0300
TZOFFSETTO:+0200
TZNAME:EET
DTSTART:20231029T010000
END:STANDARD
BEGIN:DAYLIGHT
TZOFFSETFROM:+0200
TZOFFSETTO:+0300
TZNAME:EEST
DTSTART:20240331T010000
END:DAYLIGHT
BEGIN:STANDARD
TZOFFSETFROM:+0300
TZOFFSETTO:+0200
TZNAME:EET
DTSTART:20241027T010000
END:STANDARD
END:VTIMEZONE
BEGIN:VEVENT
DTSTART;VALUE=DATE:20231230
DTEND;VALUE=DATE:20231231
DTSTAMP:20260423T050348
CREATED:20231113T120528Z
LAST-MODIFIED:20231113T145740Z
UID:9152-1703894400-1703980799@www.stcorporate.it
SUMMARY:Imprese di autotrasporto di merci per conto terzi - Rinnovo del parco veicolare con veicoli a elevata sostenibilità ecologica - Prova del perfezionamento dell'investimento
DESCRIPTION:Termine finale\, entro le ore 16:00\, per i soggetti che hanno presentato la domanda di prenotazione delle risorse nel secondo periodo disponibile (15.3.2023 – 28.4.2023)\, per rendicontare i costi di acquisizione dei beni oggetto di investimento al fine di perfezionare la richiesta di agevolazione.Le domande rendicontate saranno oggetto di verifica\, ai fini dell’erogazione dei contributi spettanti.\nGli incentivi sono previsti per le imprese di autotrasporto merci per conto di terzi per il rinnovo del parco veicolare con veicoli ad elevata sostenibilità ecologica.
URL:https://www.stcorporate.it/scadenzario/imprese-di-autotrasporto-di-merci-per-conto-terzi-rinnovo-del-parco-veicolare-con-veicoli-a-elevata-sostenibilita-ecologica-prova-del-perfezionamento-dellinvestimento-3/
CATEGORIES:Autotrasportatori,Scadenze
END:VEVENT
END:VCALENDAR