BEGIN:VCALENDAR
VERSION:2.0
PRODID:-//ST Corporate S.r.l. - ECPv6.15.20//NONSGML v1.0//EN
CALSCALE:GREGORIAN
METHOD:PUBLISH
X-WR-CALNAME:ST Corporate S.r.l.
X-ORIGINAL-URL:https://www.stcorporate.it
X-WR-CALDESC:Eventi per ST Corporate S.r.l.
REFRESH-INTERVAL;VALUE=DURATION:PT1H
X-Robots-Tag:noindex
X-PUBLISHED-TTL:PT1H
BEGIN:VTIMEZONE
TZID:UTC
BEGIN:STANDARD
TZOFFSETFROM:+0000
TZOFFSETTO:+0000
TZNAME:UTC
DTSTART:20220101T000000
END:STANDARD
END:VTIMEZONE
BEGIN:VEVENT
DTSTART;VALUE=DATE:20230805
DTEND;VALUE=DATE:20230806
DTSTAMP:20260421T202847
CREATED:20230713T071034Z
LAST-MODIFIED:20230713T071034Z
UID:7772-1691193600-1691279999@www.stcorporate.it
SUMMARY:Imposta sugli intrattenimenti - Titoli di ingresso e abbonamenti - Annotazione nel prospetto
DESCRIPTION:Termine per annotare sull’apposito prospetto gli abbonamenti rilasciati nel mese precedente.Gli abbonamenti rilasciati in ciascun mese sono annotati in un apposito prospetto con l’indicazione dei dati identificativi degli stessi\, del numero degli eventi ai quali ciascuna tipologia di abbonamento dà diritto di assistere\, della quantità dei titoli rilasciati e del corrispettivo unitario.\nI prospetti devono essere conformi con il provv. Agenzia delle Entrate 20.11.2002.
URL:https://www.stcorporate.it/scadenzario/imposta-sugli-intrattenimenti-titoli-di-ingresso-e-abbonamenti-annotazione-nel-prospetto-2/
CATEGORIES:Associazioni e società sportive dilettantistiche,Scadenze
END:VEVENT
BEGIN:VEVENT
DTSTART;VALUE=DATE:20230821
DTEND;VALUE=DATE:20230822
DTSTAMP:20260421T202847
CREATED:20230713T055358Z
LAST-MODIFIED:20230713T061733Z
UID:7639-1692576000-1692662399@www.stcorporate.it
SUMMARY:Contribuenti "supersemplificati" -  Proventi commerciali - Annotazione nel prospetto riepilogativo
DESCRIPTION:Termine per annotare\, nel modello di prospetto riepilogativo previsto per i c.d. contribuenti “supersemplificati”\, l’ammontare dei corrispettivi e di qualsiasi altro provento conseguiti nell’esercizio di attività commerciali nel mese precedente.Il prospetto è composto da una quartina di fogli così suddivisa: \nnel primo foglio (frontespizio) devono essere indicati i dati del contribuente;\nnel secondo e nel terzo foglio (quadro A) devono essere indicati i dati relativi al complesso delle operazioni poste in essere in ciascun mese e le relative liquidazioni periodiche;\nnel quarto foglio (quadro B)\, suddiviso in cinque sezioni\, devono essere indicati\, fra l’altro\, i dati relativi al valore delle rimanenze al 31 dicembre dell’anno cui si riferisce il prospetto\, il volume d’affari e i beni ammortizzabili.
URL:https://www.stcorporate.it/scadenzario/contribuenti-supersemplificati-proventi-commerciali-annotazione-nel-prospetto-riepilogativo-3/
CATEGORIES:Associazioni e società sportive dilettantistiche,Scadenze
END:VEVENT
BEGIN:VEVENT
DTSTART;VALUE=DATE:20230831
DTEND;VALUE=DATE:20230901
DTSTAMP:20260421T202847
CREATED:20230713T055241Z
LAST-MODIFIED:20230713T060535Z
UID:7595-1693440000-1693526399@www.stcorporate.it
SUMMARY:IVA - Versamenti sospesi - Settore dello sport - Versamento rateale
DESCRIPTION:Termine per il versamento rateale dell’IVA sospesa dall’1.1.2022 al 30.11.2022.Ai sensi dell’art. 13 del DL 176/2022\, i versamenti sospesi dovevano essere effettuati\, senza applicazione di sanzioni e interessi\, entro il 22.12.2022\, in un’unica soluzione.\nL’art. 1 co. 160 della L. 197/2022 prevede che i versamenti fiscali sospesi ai sensi dell’art. 1 co. 923 lett. a) e c) della L. 234/2021 si considerano tempestivi se effettuati: \nin un’unica soluzione entro il 29.12.2022;\novvero in 60 rate mensili di pari importo\, con scadenza delle prime tre rate entro il 29.12.2022 e delle successive rate mensili entro l’ultimo giorno di ciascun mese\, a decorrere dal mese di gennaio 2023.
URL:https://www.stcorporate.it/scadenzario/iva-versamenti-sospesi-settore-dello-sport-versamento-rateale-5/
CATEGORIES:Associazioni di promozione sportiva,Associazioni e società sportive dilettantistiche,Associazioni e società sportive professionistiche,Scadenze
END:VEVENT
BEGIN:VEVENT
DTSTART;VALUE=DATE:20230831
DTEND;VALUE=DATE:20230901
DTSTAMP:20260421T202847
CREATED:20230713T055241Z
LAST-MODIFIED:20230713T060546Z
UID:7596-1693440000-1693526399@www.stcorporate.it
SUMMARY:IVA - Versamenti sospesi - Settore dello sport - Versamento rateale
DESCRIPTION:Termine per il versamento rateale dell’IVA sospesa dall’1.1.2022 al 30.11.2022. Ai sensi dell’art. 13 del DL 176/2022\, i versamenti sospesi dovevano essere effettuati\, senza applicazione di sanzioni e interessi\, entro il 22.12.2022\, in un’unica soluzione.\nL’art. 1 co. 160 della L. 197/2022 prevede che i versamenti fiscali sospesi ai sensi dell’art. 1 co. 923 lett. a) e c) della L. 234/2021 si considerano tempestivi se effettuati: \nin un’unica soluzione entro il 29.12.2022;\novvero in 60 rate mensili di pari importo\, con scadenza delle prime tre rate entro il 29.12.2022 e delle successive rate mensili entro l’ultimo giorno di ciascun mese\, a decorrere dal mese di gennaio 2023.
URL:https://www.stcorporate.it/scadenzario/iva-versamenti-sospesi-settore-dello-sport-versamento-rateale-6/
CATEGORIES:Associazioni di promozione sportiva,Associazioni e società sportive dilettantistiche,Associazioni e società sportive professionistiche,Scadenze
END:VEVENT
BEGIN:VEVENT
DTSTART;VALUE=DATE:20230831
DTEND;VALUE=DATE:20230901
DTSTAMP:20260421T202847
CREATED:20230713T055241Z
LAST-MODIFIED:20230713T060501Z
UID:7594-1693440000-1693526399@www.stcorporate.it
SUMMARY:IVA - Versamenti sospesi - Settore dello sport - Versamento rateale
DESCRIPTION:Termine per il versamento rateale dell’IVA sospesa dall’1.1.2022 al 30.11.2022. Ai sensi dell’art. 13 del DL 176/2022\, i versamenti sospesi dovevano essere effettuati\, senza applicazione di sanzioni e interessi\, entro il 22.12.2022\, in un’unica soluzione.\nL’art. 1 co. 160 della L. 197/2022 prevede che i versamenti fiscali sospesi ai sensi dell’art. 1 co. 923 lett. a) e c) della L. 234/2021 si considerano tempestivi se effettuati: \nin un’unica soluzione entro il 29.12.2022;\novvero in 60 rate mensili di pari importo\, con scadenza delle prime tre rate entro il 29.12.2022 e delle successive rate mensili entro l’ultimo giorno di ciascun mese\, a decorrere dal mese di gennaio 2023.
URL:https://www.stcorporate.it/scadenzario/iva-versamenti-sospesi-settore-dello-sport-versamento-rateale-4/
CATEGORIES:Associazioni di promozione sportiva,Associazioni e società sportive dilettantistiche,Associazioni e società sportive professionistiche,Scadenze
END:VEVENT
BEGIN:VEVENT
DTSTART;VALUE=DATE:20230831
DTEND;VALUE=DATE:20230901
DTSTAMP:20260421T202847
CREATED:20230713T055306Z
LAST-MODIFIED:20230713T060311Z
UID:7608-1693440000-1693526399@www.stcorporate.it
SUMMARY:Ritenute - Versamenti sospesi - Settore dello sport - Versamento rateale
DESCRIPTION:Termine per il versamento rateale delle ritenute alla fonte\, comprensive di quelle relative alle addizionali regionale e comunale\, sospese dall’1.1.2022 al 30.11.2022.Ai sensi dell’art. 13 del DL 176/2022\, i versamenti sospesi dovevano essere effettuati\, senza applicazione di sanzioni e interessi\, entro il 22.12.2022\, in un’unica soluzione.\nL’art. 1 co. 160 della L. 197/2022 prevede che i versamenti fiscali sospesi ai sensi dell’art. 1 co. 923 lett. a) e c) della L. 234/2021 si considerano tempestivi se effettuati: \nin un’unica soluzione entro il 29.12.2022;\novvero in 60 rate mensili di pari importo\, con scadenza delle prime tre rate entro il 29.12.2022 e delle successive rate mensili entro l’ultimo giorno di ciascun mese\, a decorrere dal mese di gennaio 2023.
URL:https://www.stcorporate.it/scadenzario/ritenute-versamenti-sospesi-settore-dello-sport-versamento-rateale-3/
CATEGORIES:Associazioni di promozione sportiva,Associazioni e società sportive dilettantistiche,Associazioni e società sportive professionistiche,Scadenze
END:VEVENT
BEGIN:VEVENT
DTSTART;VALUE=DATE:20230831
DTEND;VALUE=DATE:20230901
DTSTAMP:20260421T202847
CREATED:20230713T055306Z
LAST-MODIFIED:20230713T060325Z
UID:7609-1693440000-1693526399@www.stcorporate.it
SUMMARY:Ritenute - Versamenti sospesi - Settore dello sport - Versamento rateale
DESCRIPTION:Termine per il versamento rateale delle ritenute alla fonte\, comprensive di quelle relative alle addizionali regionale e comunale\, sospese dall’1.1.2022 al 30.11.2022.Ai sensi dell’art. 13 del DL 176/2022\, i versamenti sospesi dovevano essere effettuati\, senza applicazione di sanzioni e interessi\, entro il 22.12.2022\, in un’unica soluzione.\nL’art. 1 co. 160 della L. 197/2022 prevede che i versamenti fiscali sospesi ai sensi dell’art. 1 co. 923 lett. a) e c) della L. 234/2021 si considerano tempestivi se effettuati: \nin un’unica soluzione entro il 29.12.2022;\novvero in 60 rate mensili di pari importo\, con scadenza delle prime tre rate entro il 29.12.2022 e delle successive rate mensili entro l’ultimo giorno di ciascun mese\, a decorrere dal mese di gennaio 2023.
URL:https://www.stcorporate.it/scadenzario/ritenute-versamenti-sospesi-settore-dello-sport-versamento-rateale-4/
CATEGORIES:Associazioni di promozione sportiva,Associazioni e società sportive dilettantistiche,Associazioni e società sportive professionistiche,Scadenze
END:VEVENT
BEGIN:VEVENT
DTSTART;VALUE=DATE:20230831
DTEND;VALUE=DATE:20230901
DTSTAMP:20260421T202847
CREATED:20230713T055306Z
LAST-MODIFIED:20230713T060335Z
UID:7610-1693440000-1693526399@www.stcorporate.it
SUMMARY:Ritenute - Versamenti sospesi - Settore dello sport - Versamento rateale
DESCRIPTION:Termine per il versamento rateale delle ritenute alla fonte\, comprensive di quelle relative alle addizionali regionale e comunale\, sospese dall’1.1.2022 al 30.11.2022.Ai sensi dell’art. 13 del DL 176/2022\, i versamenti sospesi dovevano essere effettuati\, senza applicazione di sanzioni e interessi\, entro il 22.12.2022\, in un’unica soluzione.\nL’art. 1 co. 160 della L. 197/2022 prevede che i versamenti fiscali sospesi ai sensi dell’art. 1 co. 923 lett. a) e c) della L. 234/2021 si considerano tempestivi se effettuati: \nin un’unica soluzione entro il 29.12.2022;\novvero in 60 rate mensili di pari importo\, con scadenza delle prime tre rate entro il 29.12.2022 e delle successive rate mensili entro l’ultimo giorno di ciascun mese\, a decorrere dal mese di gennaio 2023.
URL:https://www.stcorporate.it/scadenzario/ritenute-versamenti-sospesi-settore-dello-sport-versamento-rateale-5/
CATEGORIES:Associazioni di promozione sportiva,Associazioni e società sportive dilettantistiche,Associazioni e società sportive professionistiche,Scadenze
END:VEVENT
END:VCALENDAR